BEGIN:VCALENDAR
VERSION:2.0
PRODID:-//Circle Christian Schools - ECPv6.15.11//NONSGML v1.0//EN
CALSCALE:GREGORIAN
METHOD:PUBLISH
X-WR-CALNAME:Circle Christian Schools
X-ORIGINAL-URL:https://circlechristianschool.org
X-WR-CALDESC:Events for Circle Christian Schools
REFRESH-INTERVAL;VALUE=DURATION:PT1H
X-Robots-Tag:noindex
X-PUBLISHED-TTL:PT1H
BEGIN:VTIMEZONE
TZID:America/New_York
BEGIN:DAYLIGHT
TZOFFSETFROM:-0500
TZOFFSETTO:-0400
TZNAME:EDT
DTSTART:20240310T070000
END:DAYLIGHT
BEGIN:STANDARD
TZOFFSETFROM:-0400
TZOFFSETTO:-0500
TZNAME:EST
DTSTART:20241103T060000
END:STANDARD
BEGIN:DAYLIGHT
TZOFFSETFROM:-0500
TZOFFSETTO:-0400
TZNAME:EDT
DTSTART:20250309T070000
END:DAYLIGHT
BEGIN:STANDARD
TZOFFSETFROM:-0400
TZOFFSETTO:-0500
TZNAME:EST
DTSTART:20251102T060000
END:STANDARD
BEGIN:DAYLIGHT
TZOFFSETFROM:-0500
TZOFFSETTO:-0400
TZNAME:EDT
DTSTART:20260308T070000
END:DAYLIGHT
BEGIN:STANDARD
TZOFFSETFROM:-0400
TZOFFSETTO:-0500
TZNAME:EST
DTSTART:20261101T060000
END:STANDARD
END:VTIMEZONE
BEGIN:VEVENT
DTSTART;TZID=America/New_York:20250130T140000
DTEND;TZID=America/New_York:20250130T140000
DTSTAMP:20260425T064333
CREATED:20241217T011058Z
LAST-MODIFIED:20241217T011101Z
UID:10001000-1738245600-1738245600@circlechristianschool.org
SUMMARY:Transition Meeting - 8th-9th WG
DESCRIPTION:
URL:https://circlechristianschool.org/event/transition-meeting-8th-9th-wg/
LOCATION:Florida
CATEGORIES:Upper School
ATTACH;FMTTYPE=image/png:https://circlechristianschool.org/wp-content/uploads/2023/09/Screen-Shot-2023-09-13-at-1.37.42-PM.png
END:VEVENT
BEGIN:VEVENT
DTSTART;TZID=America/New_York:20250131T173000
DTEND;TZID=America/New_York:20250131T210000
DTSTAMP:20260425T064333
CREATED:20241228T170111Z
LAST-MODIFIED:20241228T170115Z
UID:10001037-1738344600-1738357200@circlechristianschool.org
SUMMARY:Homecoming Basketball Game
DESCRIPTION:Light Concessions will be available \n\n\n\nJV – 5:30\, Varsity – 7:00pm
URL:https://circlechristianschool.org/event/homecoming-basketball-game/
LOCATION:Willow Creek Presbyterian Church\, 4725 E Lake Dr\, Winter Springs\, Florida\, 32708\, United States
CATEGORIES:Athletics
ATTACH;FMTTYPE=image/webp:https://circlechristianschool.org/wp-content/uploads/2023/10/basketball-scoring-points-action-photo-going-basket-live-game-37043542.webp
GEO:28.6617549;-81.2840999
X-APPLE-STRUCTURED-LOCATION;VALUE=URI;X-ADDRESS=Willow Creek Presbyterian Church 4725 E Lake Dr Winter Springs Florida 32708 United States;X-APPLE-RADIUS=500;X-TITLE=4725 E Lake Dr:geo:-81.2840999,28.6617549
END:VEVENT
BEGIN:VEVENT
DTSTART;TZID=America/New_York:20250201T000000
DTEND;TZID=America/New_York:20250201T235959
DTSTAMP:20260425T064333
CREATED:20241217T011907Z
LAST-MODIFIED:20241217T011910Z
UID:10001005-1738368000-1738454399@circlechristianschool.org
SUMMARY:Barn Dance
DESCRIPTION:
URL:https://circlechristianschool.org/event/barn-dance-2/
LOCATION:Florida
CATEGORIES:Upper School
END:VEVENT
BEGIN:VEVENT
DTSTART;TZID=America/New_York:20250201T100000
DTEND;TZID=America/New_York:20250201T170000
DTSTAMP:20260425T064333
CREATED:20250109T164247Z
LAST-MODIFIED:20250109T164252Z
UID:10001056-1738404000-1738429200@circlechristianschool.org
SUMMARY:CTK Spring Show Rehearsal
DESCRIPTION:Winter Springs Campus Commons
URL:https://circlechristianschool.org/event/ctk-spring-show-rehearsal/
LOCATION:Foundry Campus\, 1491 E SR 434\, Winter Springs\, FL\, 32708\, United States
CATEGORIES:Theater
ATTACH;FMTTYPE=image/jpeg:https://circlechristianschool.org/wp-content/uploads/2023/09/photo-1503095396549-807759245b35.jpg
GEO:28.6988853;-81.3081226
X-APPLE-STRUCTURED-LOCATION;VALUE=URI;X-ADDRESS=Foundry Campus 1491 E SR 434 Winter Springs FL 32708 United States;X-APPLE-RADIUS=500;X-TITLE=1491 E SR 434:geo:-81.3081226,28.6988853
END:VEVENT
BEGIN:VEVENT
DTSTART;TZID=America/New_York:20250203T000000
DTEND;TZID=America/New_York:20250207T235959
DTSTAMP:20260425T064333
CREATED:20250109T162313Z
LAST-MODIFIED:20250109T162318Z
UID:10001046-1738540800-1738972799@circlechristianschool.org
SUMMARY:Upper School: Valentine Treats & Flower SALES
DESCRIPTION:All Campuses
URL:https://circlechristianschool.org/event/upper-school-valentine-treats-flower-sales/
LOCATION:Florida
CATEGORIES:Upper School
ATTACH;FMTTYPE=image/png:https://circlechristianschool.org/wp-content/uploads/2024/01/unnamed.png
END:VEVENT
BEGIN:VEVENT
DTSTART;TZID=America/New_York:20250203T140500
DTEND;TZID=America/New_York:20250203T140500
DTSTAMP:20260425T064333
CREATED:20250109T163841Z
LAST-MODIFIED:20250109T163845Z
UID:10001052-1738591500-1738591500@circlechristianschool.org
SUMMARY:WG/WP Park Day- No Extracurricular Classes
DESCRIPTION:
URL:https://circlechristianschool.org/event/wg-wp-park-day-no-extracurricular-classes/
LOCATION:Florida
CATEGORIES:Lower School
ATTACH;FMTTYPE=image/png:https://circlechristianschool.org/wp-content/uploads/2024/01/unnamed-7.png
END:VEVENT
BEGIN:VEVENT
DTSTART;TZID=America/New_York:20250204T000000
DTEND;TZID=America/New_York:20250204T235959
DTSTAMP:20260425T064333
CREATED:20241217T010213Z
LAST-MODIFIED:20241217T010215Z
UID:10000995-1738627200-1738713599@circlechristianschool.org
SUMMARY:Circle Christian School Expo 2025
DESCRIPTION:Save the date for Expo 2025 on February 4\, 2025. Join us to kickstart the excitement for the 40th-year celebration. Calling all current and prospective families to a night of sharing\, fellowship\, and an opportunity to meet our dedicated teachers and staff. Make sure to invite your friends!
URL:https://circlechristianschool.org/event/circle-christian-school-expo-2025/
LOCATION:Foundry Campus\, 1491 E SR 434\, Winter Springs\, FL\, 32708\, United States
CATEGORIES:All School
ATTACH;FMTTYPE=image/png:https://circlechristianschool.org/wp-content/uploads/2024/12/unnamed-1.png
GEO:28.6988853;-81.3081226
X-APPLE-STRUCTURED-LOCATION;VALUE=URI;X-ADDRESS=Foundry Campus 1491 E SR 434 Winter Springs FL 32708 United States;X-APPLE-RADIUS=500;X-TITLE=1491 E SR 434:geo:-81.3081226,28.6988853
END:VEVENT
BEGIN:VEVENT
DTSTART;TZID=America/New_York:20250204T140500
DTEND;TZID=America/New_York:20250204T140500
DTSTAMP:20260425T064333
CREATED:20250109T163955Z
LAST-MODIFIED:20250109T164000Z
UID:10001053-1738677900-1738677900@circlechristianschool.org
SUMMARY:WS Park Day- No Extracurricular Classes
DESCRIPTION:
URL:https://circlechristianschool.org/event/ws-park-day-no-extracurricular-classes/
LOCATION:Florida
CATEGORIES:Lower School
ATTACH;FMTTYPE=image/png:https://circlechristianschool.org/wp-content/uploads/2024/01/unnamed-7.png
END:VEVENT
BEGIN:VEVENT
DTSTART;TZID=America/New_York:20250206T140500
DTEND;TZID=America/New_York:20250206T140500
DTSTAMP:20260425T064333
CREATED:20250109T164051Z
LAST-MODIFIED:20250109T164055Z
UID:10001054-1738850700-1738850700@circlechristianschool.org
SUMMARY:WG/WP Park Day- No Extracurricular Classes
DESCRIPTION:
URL:https://circlechristianschool.org/event/wg-wp-park-day-no-extracurricular-classes-2/
LOCATION:Florida
CATEGORIES:Lower School
ATTACH;FMTTYPE=image/png:https://circlechristianschool.org/wp-content/uploads/2024/01/unnamed-7.png
END:VEVENT
BEGIN:VEVENT
DTSTART;TZID=America/New_York:20250206T190000
DTEND;TZID=America/New_York:20250206T203000
DTSTAMP:20260425T064333
CREATED:20250109T162101Z
LAST-MODIFIED:20250109T162108Z
UID:10001045-1738868400-1738873800@circlechristianschool.org
SUMMARY:Moms Connect
DESCRIPTION:Calvary Kids at Calvary Orlando
URL:https://circlechristianschool.org/event/moms-connect-8/
LOCATION:Calvary Orlando\, 1199 Clay St.\, Winter Park\, Florida\, 32789\, United States
CATEGORIES:All School
ATTACH;FMTTYPE=image/png:https://circlechristianschool.org/wp-content/uploads/2023/12/unnamed-3.png
GEO:28.5875656;-81.3746553
X-APPLE-STRUCTURED-LOCATION;VALUE=URI;X-ADDRESS=Calvary Orlando 1199 Clay St. Winter Park Florida 32789 United States;X-APPLE-RADIUS=500;X-TITLE=1199 Clay St.:geo:-81.3746553,28.5875656
END:VEVENT
BEGIN:VEVENT
DTSTART;TZID=America/New_York:20250207T140500
DTEND;TZID=America/New_York:20250207T140500
DTSTAMP:20260425T064333
CREATED:20250109T164140Z
LAST-MODIFIED:20250109T164144Z
UID:10001055-1738937100-1738937100@circlechristianschool.org
SUMMARY:WS Park Day- No Extracurricular Classes
DESCRIPTION:
URL:https://circlechristianschool.org/event/ws-park-day-no-extracurricular-classes-2/
LOCATION:Florida
CATEGORIES:Lower School
ATTACH;FMTTYPE=image/png:https://circlechristianschool.org/wp-content/uploads/2024/01/unnamed-7.png
END:VEVENT
BEGIN:VEVENT
DTSTART;TZID=America/New_York:20250207T160000
DTEND;TZID=America/New_York:20250207T210000
DTSTAMP:20260425T064333
CREATED:20250109T164527Z
LAST-MODIFIED:20250109T164531Z
UID:10001057-1738944000-1738962000@circlechristianschool.org
SUMMARY:CTC/CSP Spring Show Rehearsal
DESCRIPTION:
URL:https://circlechristianschool.org/event/ctc-csp-spring-show-rehearsal-6/2025-02-07/
LOCATION:Florida
CATEGORIES:Theater
ATTACH;FMTTYPE=image/jpeg:https://circlechristianschool.org/wp-content/uploads/2023/09/photo-1503095396549-807759245b35.jpg
END:VEVENT
BEGIN:VEVENT
DTSTART;TZID=America/New_York:20250208T100000
DTEND;TZID=America/New_York:20250208T170000
DTSTAMP:20260425T064333
CREATED:20250109T164527Z
LAST-MODIFIED:20250109T164531Z
UID:10001058-1739008800-1739034000@circlechristianschool.org
SUMMARY:CTC/CSP Spring Show Rehearsal
DESCRIPTION:
URL:https://circlechristianschool.org/event/ctc-csp-spring-show-rehearsal-6/2025-02-08/
LOCATION:Florida
CATEGORIES:Theater
ATTACH;FMTTYPE=image/jpeg:https://circlechristianschool.org/wp-content/uploads/2023/09/photo-1503095396549-807759245b35.jpg
END:VEVENT
BEGIN:VEVENT
DTSTART;TZID=America/New_York:20250210T000000
DTEND;TZID=America/New_York:20250214T235959
DTSTAMP:20260425T064333
CREATED:20250109T163029Z
LAST-MODIFIED:20250109T163034Z
UID:10001047-1739145600-1739577599@circlechristianschool.org
SUMMARY:Valentine Treats & Flower DELIVERY
DESCRIPTION:All Campuses
URL:https://circlechristianschool.org/event/valentine-treats-flower-delivery/
LOCATION:Florida
CATEGORIES:Upper School
ATTACH;FMTTYPE=image/png:https://circlechristianschool.org/wp-content/uploads/2024/01/unnamed.png
END:VEVENT
BEGIN:VEVENT
DTSTART;TZID=America/New_York:20250210T120000
DTEND;TZID=America/New_York:20250214T120000
DTSTAMP:20260425T064333
CREATED:20250109T163145Z
LAST-MODIFIED:20250109T163149Z
UID:10001048-1739188800-1739534400@circlechristianschool.org
SUMMARY:Valentine T-Shirt Week
DESCRIPTION:All Campuses
URL:https://circlechristianschool.org/event/valentine-t-shirt-week/
LOCATION:Florida
CATEGORIES:Upper School
END:VEVENT
BEGIN:VEVENT
DTSTART;TZID=America/New_York:20250210T161000
DTEND;TZID=America/New_York:20250210T181000
DTSTAMP:20260425T064333
CREATED:20250122T232047Z
LAST-MODIFIED:20250122T232050Z
UID:10001083-1739203800-1739211000@circlechristianschool.org
SUMMARY:AWAY Varsity Baseball @ Geneva
DESCRIPTION:
URL:https://circlechristianschool.org/event/away-varsity-baseball-geneva/
LOCATION:The Geneva School\, 1775 Seminola Blvd\, Casselberry\, Florida\, 32707\, United States
CATEGORIES:Athletics
ATTACH;FMTTYPE=image/jpeg:https://circlechristianschool.org/wp-content/uploads/2024/02/baseball-field-and-ball.jpg
GEO:28.6123356;-81.3108006
X-APPLE-STRUCTURED-LOCATION;VALUE=URI;X-ADDRESS=The Geneva School 1775 Seminola Blvd Casselberry Florida 32707 United States;X-APPLE-RADIUS=500;X-TITLE=1775 Seminola Blvd:geo:-81.3108006,28.6123356
END:VEVENT
BEGIN:VEVENT
DTSTART;TZID=America/New_York:20250210T170000
DTEND;TZID=America/New_York:20250210T235900
DTSTAMP:20260425T064333
CREATED:20250205T134923Z
LAST-MODIFIED:20250205T134927Z
UID:10001095-1739206800-1739231940@circlechristianschool.org
SUMMARY:Course Registration Opens for Seniors
DESCRIPTION:
URL:https://circlechristianschool.org/event/course-registration-opens-for-seniors/
LOCATION:Florida
CATEGORIES:All School
ATTACH;FMTTYPE=image/png:https://circlechristianschool.org/wp-content/uploads/2023/09/ccslogoright1-copy.png
END:VEVENT
BEGIN:VEVENT
DTSTART;TZID=America/New_York:20250211T170000
DTEND;TZID=America/New_York:20250211T170000
DTSTAMP:20260425T064333
CREATED:20250205T135133Z
LAST-MODIFIED:20250205T135331Z
UID:10001096-1739293200-1739293200@circlechristianschool.org
SUMMARY:Course Registration Opens for 9th-12th
DESCRIPTION:
URL:https://circlechristianschool.org/event/course-registration-opens-for-9th-12th/
LOCATION:Florida
CATEGORIES:All School
ATTACH;FMTTYPE=image/png:https://circlechristianschool.org/wp-content/uploads/2023/09/ccslogoright1-copy.png
END:VEVENT
BEGIN:VEVENT
DTSTART;TZID=America/New_York:20250212T160000
DTEND;TZID=America/New_York:20250212T200000
DTSTAMP:20260425T064333
CREATED:20250109T164641Z
LAST-MODIFIED:20250109T164646Z
UID:10001059-1739376000-1739390400@circlechristianschool.org
SUMMARY:CSA 1st & 2nd Year Juries
DESCRIPTION:
URL:https://circlechristianschool.org/event/csa-1st-2nd-year-juries/
LOCATION:Foundry Campus\, 1491 E SR 434\, Winter Springs\, FL\, 32708\, United States
CATEGORIES:Theater
ATTACH;FMTTYPE=image/jpeg:https://circlechristianschool.org/wp-content/uploads/2023/09/photo-1503095396549-807759245b35.jpg
GEO:28.6988853;-81.3081226
X-APPLE-STRUCTURED-LOCATION;VALUE=URI;X-ADDRESS=Foundry Campus 1491 E SR 434 Winter Springs FL 32708 United States;X-APPLE-RADIUS=500;X-TITLE=1491 E SR 434:geo:-81.3081226,28.6988853
END:VEVENT
BEGIN:VEVENT
DTSTART;TZID=America/New_York:20250212T170000
DTEND;TZID=America/New_York:20250212T170000
DTSTAMP:20260425T064333
CREATED:20250205T135237Z
LAST-MODIFIED:20250205T135242Z
UID:10001097-1739379600-1739379600@circlechristianschool.org
SUMMARY:Course Registration Opens for 7th-8th
DESCRIPTION:
URL:https://circlechristianschool.org/event/course-registration-opens-for-7th-8th/
LOCATION:Florida
CATEGORIES:All School
ATTACH;FMTTYPE=image/png:https://circlechristianschool.org/wp-content/uploads/2023/09/ccslogoright1-copy.png
END:VEVENT
BEGIN:VEVENT
DTSTART;TZID=America/New_York:20250213T160000
DTEND;TZID=America/New_York:20250213T173000
DTSTAMP:20260425T064333
CREATED:20250122T224748Z
LAST-MODIFIED:20250122T224752Z
UID:10001063-1739462400-1739467800@circlechristianschool.org
SUMMARY:Middle School Baseball @ Windermere Prep
DESCRIPTION:
URL:https://circlechristianschool.org/event/middle-school-baseball-windermere-prep/
LOCATION:Windermere Preperatory School\, 6189 Winter-Garden Vineland Road\, Windermere\, Florida\, 34786\, United States
CATEGORIES:Athletics
ATTACH;FMTTYPE=image/jpeg:https://circlechristianschool.org/wp-content/uploads/2024/02/IMG_5355-scaled.jpg
GEO:28.4780923;-81.5696684
X-APPLE-STRUCTURED-LOCATION;VALUE=URI;X-ADDRESS=Windermere Preperatory School 6189 Winter-Garden Vineland Road Windermere Florida 34786 United States;X-APPLE-RADIUS=500;X-TITLE=6189 Winter-Garden Vineland Road:geo:-81.5696684,28.4780923
END:VEVENT
BEGIN:VEVENT
DTSTART;TZID=America/New_York:20250213T160000
DTEND;TZID=America/New_York:20250213T180000
DTSTAMP:20260425T064333
CREATED:20241230T172502Z
LAST-MODIFIED:20250213T001444Z
UID:10001039-1739462400-1739469600@circlechristianschool.org
SUMMARY:Central Florida Middle School League Track and Field Meet #1
DESCRIPTION:Admission to the meet is $5.00/adult (18+).  CARD ONLY \n\n\n\nConcessions will be available (Burgers\, Chips\, Candy\, Drinks) CARDS ONLY Please <Snack Bar Menu Link>
URL:https://circlechristianschool.org/event/central-florida-middle-school-league-track-and-field-meet-1-2/
LOCATION:The Geneva School\, 1775 Seminola Blvd\, Casselberry\, Florida\, 32707\, United States
CATEGORIES:Athletics
ATTACH;FMTTYPE=image/jpeg:https://circlechristianschool.org/wp-content/uploads/2024/02/track-and-field-lanes-.jpg
GEO:28.6123356;-81.3108006
X-APPLE-STRUCTURED-LOCATION;VALUE=URI;X-ADDRESS=The Geneva School 1775 Seminola Blvd Casselberry Florida 32707 United States;X-APPLE-RADIUS=500;X-TITLE=1775 Seminola Blvd:geo:-81.3108006,28.6123356
END:VEVENT
BEGIN:VEVENT
DTSTART;TZID=America/New_York:20250213T160000
DTEND;TZID=America/New_York:20250213T190000
DTSTAMP:20260425T064333
CREATED:20250213T004330Z
LAST-MODIFIED:20250213T004332Z
UID:10001108-1739462400-1739473200@circlechristianschool.org
SUMMARY:Tennis Match Circle v Mt. Dora High School
DESCRIPTION:
URL:https://circlechristianschool.org/event/tennis-match-circle-v-mt-dora-high-school/
LOCATION:Sanlando Park\, 401 W Highland St\, Altamonte Springs\, Florida\, 32714\, United States
CATEGORIES:Athletics
ATTACH;FMTTYPE=image/jpeg:https://circlechristianschool.org/wp-content/uploads/2024/02/tennis-racket-w-ball.jpeg
GEO:28.6768535;-81.3972667
X-APPLE-STRUCTURED-LOCATION;VALUE=URI;X-ADDRESS=Sanlando Park 401 W Highland St Altamonte Springs Florida 32714 United States;X-APPLE-RADIUS=500;X-TITLE=401 W Highland St:geo:-81.3972667,28.6768535
END:VEVENT
BEGIN:VEVENT
DTSTART;TZID=America/New_York:20250213T170000
DTEND;TZID=America/New_York:20250213T170000
DTSTAMP:20260425T064333
CREATED:20250205T135453Z
LAST-MODIFIED:20250205T135456Z
UID:10001098-1739466000-1739466000@circlechristianschool.org
SUMMARY:Course Registration for K-6th
DESCRIPTION:
URL:https://circlechristianschool.org/event/course-registration-for-k-6th/
LOCATION:Florida
CATEGORIES:All School
ATTACH;FMTTYPE=image/png:https://circlechristianschool.org/wp-content/uploads/2023/09/ccslogoright1-copy.png
END:VEVENT
BEGIN:VEVENT
DTSTART;TZID=America/New_York:20250213T183000
DTEND;TZID=America/New_York:20250213T203000
DTSTAMP:20260425T064333
CREATED:20250122T232315Z
LAST-MODIFIED:20250122T232319Z
UID:10001084-1739471400-1739478600@circlechristianschool.org
SUMMARY:AWAY Varsity Baseball @ Wekiva
DESCRIPTION:
URL:https://circlechristianschool.org/event/away-varsity-baseball-wekiva/
LOCATION:Florida
CATEGORIES:Athletics
ATTACH;FMTTYPE=image/jpeg:https://circlechristianschool.org/wp-content/uploads/2024/02/baseball-field-and-ball.jpg
END:VEVENT
BEGIN:VEVENT
DTSTART;TZID=America/New_York:20250214T183000
DTEND;TZID=America/New_York:20250214T203000
DTSTAMP:20260425T064333
CREATED:20241217T010404Z
LAST-MODIFIED:20241217T010408Z
UID:10000996-1739557800-1739565000@circlechristianschool.org
SUMMARY:Father-Daughter Dance
DESCRIPTION:
URL:https://circlechristianschool.org/event/father-daughter-dance-2/
LOCATION:Calvary Orlando\, 1199 Clay St.\, Winter Park\, Florida\, 32789\, United States
CATEGORIES:Lower School
ATTACH;FMTTYPE=image/png:https://circlechristianschool.org/wp-content/uploads/2024/12/unnamed-2.png
GEO:28.5875656;-81.3746553
X-APPLE-STRUCTURED-LOCATION;VALUE=URI;X-ADDRESS=Calvary Orlando 1199 Clay St. Winter Park Florida 32789 United States;X-APPLE-RADIUS=500;X-TITLE=1199 Clay St.:geo:-81.3746553,28.5875656
END:VEVENT
BEGIN:VEVENT
DTSTART;TZID=America/New_York:20250217T154500
DTEND;TZID=America/New_York:20250217T174500
DTSTAMP:20260425T064333
CREATED:20250122T232513Z
LAST-MODIFIED:20250123T164734Z
UID:10001085-1739807100-1739814300@circlechristianschool.org
SUMMARY:AWAY Varsity Baseball @ Altamonte Christian
DESCRIPTION:
URL:https://circlechristianschool.org/event/away-varsity-baseball-altamone-christian/
LOCATION:Florida
CATEGORIES:Athletics
ATTACH;FMTTYPE=image/jpeg:https://circlechristianschool.org/wp-content/uploads/2024/02/baseball-field-and-ball.jpg
END:VEVENT
BEGIN:VEVENT
DTSTART;TZID=America/New_York:20250218T160000
DTEND;TZID=America/New_York:20250218T170000
DTSTAMP:20260425T064333
CREATED:20250122T230340Z
LAST-MODIFIED:20250217T202149Z
UID:10001071-1739894400-1739898000@circlechristianschool.org
SUMMARY:HOME Middle School Baseball v Windermere Prep- Field A-4
DESCRIPTION:
URL:https://circlechristianschool.org/event/home-middle-school-baseball-v-windermere-prep/
LOCATION:Boombah Sports Complex\, 3450 E. Lake Mary Blvd\, Sanford\, Florida\, 32773\, United States
CATEGORIES:Athletics
ATTACH;FMTTYPE=image/jpeg:https://circlechristianschool.org/wp-content/uploads/2024/02/IMG_5355-scaled.jpg
GEO:28.7636088;-81.218857
X-APPLE-STRUCTURED-LOCATION;VALUE=URI;X-ADDRESS=Boombah Sports Complex 3450 E. Lake Mary Blvd Sanford Florida 32773 United States;X-APPLE-RADIUS=500;X-TITLE=3450 E. Lake Mary Blvd:geo:-81.218857,28.7636088
END:VEVENT
BEGIN:VEVENT
DTSTART;TZID=America/New_York:20250218T160000
DTEND;TZID=America/New_York:20250218T190000
DTSTAMP:20260425T064333
CREATED:20250213T004503Z
LAST-MODIFIED:20250213T004506Z
UID:10001109-1739894400-1739905200@circlechristianschool.org
SUMMARY:Tennis Match Circle v Foundation Academy
DESCRIPTION:
URL:https://circlechristianschool.org/event/tennis-match-circle-v-foundation-academy/
LOCATION:Sanlando Park\, 401 W Highland St\, Altamonte Springs\, Florida\, 32714\, United States
CATEGORIES:Athletics
ATTACH;FMTTYPE=image/jpeg:https://circlechristianschool.org/wp-content/uploads/2024/02/tennis-racket-w-ball.jpeg
GEO:28.6768535;-81.3972667
X-APPLE-STRUCTURED-LOCATION;VALUE=URI;X-ADDRESS=Sanlando Park 401 W Highland St Altamonte Springs Florida 32714 United States;X-APPLE-RADIUS=500;X-TITLE=401 W Highland St:geo:-81.3972667,28.6768535
END:VEVENT
BEGIN:VEVENT
DTSTART;TZID=America/New_York:20250218T170000
DTEND;TZID=America/New_York:20250218T190000
DTSTAMP:20260425T064333
CREATED:20250123T165445Z
LAST-MODIFIED:20250123T165447Z
UID:10001087-1739898000-1739905200@circlechristianschool.org
SUMMARY:AWAY Varsity Baseball @ OCP
DESCRIPTION:
URL:https://circlechristianschool.org/event/away-varsity-baseball-ocp/
LOCATION:Florida
CATEGORIES:Athletics
ATTACH;FMTTYPE=image/jpeg:https://circlechristianschool.org/wp-content/uploads/2024/02/baseball-field-and-ball.jpg
END:VEVENT
END:VCALENDAR