BEGIN:VCALENDAR
VERSION:2.0
PRODID:-//Circle Christian Schools - ECPv6.15.11//NONSGML v1.0//EN
CALSCALE:GREGORIAN
METHOD:PUBLISH
X-WR-CALNAME:Circle Christian Schools
X-ORIGINAL-URL:https://circlechristianschool.org
X-WR-CALDESC:Events for Circle Christian Schools
REFRESH-INTERVAL;VALUE=DURATION:PT1H
X-Robots-Tag:noindex
X-PUBLISHED-TTL:PT1H
BEGIN:VTIMEZONE
TZID:America/New_York
BEGIN:DAYLIGHT
TZOFFSETFROM:-0500
TZOFFSETTO:-0400
TZNAME:EDT
DTSTART:20230312T070000
END:DAYLIGHT
BEGIN:STANDARD
TZOFFSETFROM:-0400
TZOFFSETTO:-0500
TZNAME:EST
DTSTART:20231105T060000
END:STANDARD
BEGIN:DAYLIGHT
TZOFFSETFROM:-0500
TZOFFSETTO:-0400
TZNAME:EDT
DTSTART:20240310T070000
END:DAYLIGHT
BEGIN:STANDARD
TZOFFSETFROM:-0400
TZOFFSETTO:-0500
TZNAME:EST
DTSTART:20241103T060000
END:STANDARD
BEGIN:DAYLIGHT
TZOFFSETFROM:-0500
TZOFFSETTO:-0400
TZNAME:EDT
DTSTART:20250309T070000
END:DAYLIGHT
BEGIN:STANDARD
TZOFFSETFROM:-0400
TZOFFSETTO:-0500
TZNAME:EST
DTSTART:20251102T060000
END:STANDARD
END:VTIMEZONE
BEGIN:VEVENT
DTSTART;TZID=America/New_York:20240902T000000
DTEND;TZID=America/New_York:20240903T235959
DTSTAMP:20260420T051427
CREATED:20240702T213800Z
LAST-MODIFIED:20240702T213804Z
UID:10000787-1725235200-1725407999@circlechristianschool.org
SUMMARY:Labor Day Holiday - No on Campus Classes
DESCRIPTION:
URL:https://circlechristianschool.org/event/labor-day-holiday-no-on-campus-classes/
LOCATION:FL
CATEGORIES:All School
ATTACH;FMTTYPE=image/png:https://circlechristianschool.org/wp-content/uploads/2023/09/ccslogoright1-copy.png
END:VEVENT
BEGIN:VEVENT
DTSTART;TZID=America/New_York:20240829T163000
DTEND;TZID=America/New_York:20240829T203000
DTSTAMP:20260420T051427
CREATED:20240817T022302Z
LAST-MODIFIED:20240820T165141Z
UID:10000821-1724949000-1724963400@circlechristianschool.org
SUMMARY:Volleyball Home Game MS v CF Prep and JV/VAR v Lake Mary Prep
DESCRIPTION:MS-4:30 p.m.\, JV – 5:30 p.m.\, 6:30 p.m. accordingly.
URL:https://circlechristianschool.org/event/volleyball-home-game-jv-var-v-lake-mary-prep/
LOCATION:Willow Creek Presbyterian Church\, 4725 E Lake Dr\, Winter Springs\, Florida\, 32708\, United States
CATEGORIES:Athletics
ATTACH;FMTTYPE=image/jpeg:https://circlechristianschool.org/wp-content/uploads/2023/09/360_F_171817041_DkMe5qd77ba9cUPs2cHqPFsWtIFVy0o1.jpg
GEO:28.6617549;-81.2840999
X-APPLE-STRUCTURED-LOCATION;VALUE=URI;X-ADDRESS=Willow Creek Presbyterian Church 4725 E Lake Dr Winter Springs Florida 32708 United States;X-APPLE-RADIUS=500;X-TITLE=4725 E Lake Dr:geo:-81.2840999,28.6617549
END:VEVENT
BEGIN:VEVENT
DTSTART;TZID=America/New_York:20240828T160000
DTEND;TZID=America/New_York:20240828T160000
DTSTAMP:20260420T051427
CREATED:20240823T023025Z
LAST-MODIFIED:20240823T023028Z
UID:10000844-1724860800-1724860800@circlechristianschool.org
SUMMARY:Golf Girls V Lake Mary High
DESCRIPTION:
URL:https://circlechristianschool.org/event/golf-girls-v-lake-mary-high/
LOCATION:Heathrow Legacy Country Club\, 1200 Bridgewater Dr\, 32746\, Lake Mary\, Florida\, 32746\, United States
CATEGORIES:Athletics
ATTACH;FMTTYPE=image/jpeg:https://circlechristianschool.org/wp-content/uploads/2023/09/360_F_8489083_gyFQj5QhX6ZpoH42Vwasg2ZCl1duhntD.jpg
GEO:28.7650208;-81.3675872
X-APPLE-STRUCTURED-LOCATION;VALUE=URI;X-ADDRESS=Heathrow Legacy Country Club 1200 Bridgewater Dr 32746 Lake Mary Florida 32746 United States;X-APPLE-RADIUS=500;X-TITLE=1200 Bridgewater Dr\, 32746:geo:-81.3675872,28.7650208
END:VEVENT
BEGIN:VEVENT
DTSTART;TZID=America/New_York:20240828T153000
DTEND;TZID=America/New_York:20240828T160000
DTSTAMP:20260420T051427
CREATED:20240823T023348Z
LAST-MODIFIED:20240823T023351Z
UID:10000845-1724859000-1724860800@circlechristianschool.org
SUMMARY:Golf - JV Boys V Master's Academy
DESCRIPTION:
URL:https://circlechristianschool.org/event/golf-jv-boys-v-masters-academy/
LOCATION:Ventura Country Club Country Club\, 3333 Woodgate Blvd\, Orlando\, Florida\, 32822\, United States
CATEGORIES:Athletics
ATTACH;FMTTYPE=image/jpeg:https://circlechristianschool.org/wp-content/uploads/2023/09/360_F_8489083_gyFQj5QhX6ZpoH42Vwasg2ZCl1duhntD.jpg
GEO:28.5087715;-81.2989132
X-APPLE-STRUCTURED-LOCATION;VALUE=URI;X-ADDRESS=Ventura Country Club Country Club 3333 Woodgate Blvd Orlando Florida 32822 United States;X-APPLE-RADIUS=500;X-TITLE=3333 Woodgate Blvd:geo:-81.2989132,28.5087715
END:VEVENT
BEGIN:VEVENT
DTSTART;TZID=America/New_York:20240827T170000
DTEND;TZID=America/New_York:20240827T200000
DTSTAMP:20260420T051427
CREATED:20240823T020129Z
LAST-MODIFIED:20240823T020133Z
UID:10000831-1724778000-1724788800@circlechristianschool.org
SUMMARY:Volleyball MS/JV/Var V ICS
DESCRIPTION:4:00 p.m.\, 5:00 p.m.\, and 6:30 p.m. accordingly.
URL:https://circlechristianschool.org/event/volleyball-ms-jv-var-v-ics/
LOCATION:International Community School\, 4800 Howell Branch Road\, Winter Park\, Florida\, 32792\, United States
CATEGORIES:Athletics
ATTACH;FMTTYPE=image/jpeg:https://circlechristianschool.org/wp-content/uploads/2023/09/360_F_171817041_DkMe5qd77ba9cUPs2cHqPFsWtIFVy0o1.jpg
GEO:28.622793;-81.2884861
X-APPLE-STRUCTURED-LOCATION;VALUE=URI;X-ADDRESS=International Community School 4800 Howell Branch Road Winter Park Florida 32792 United States;X-APPLE-RADIUS=500;X-TITLE=4800 Howell Branch Road:geo:-81.2884861,28.622793
END:VEVENT
BEGIN:VEVENT
DTSTART;TZID=America/New_York:20240827T160000
DTEND;TZID=America/New_York:20240827T160000
DTSTAMP:20260420T051427
CREATED:20240823T022934Z
LAST-MODIFIED:20240823T022937Z
UID:10000843-1724774400-1724774400@circlechristianschool.org
SUMMARY:Golf - Girls V Windermere Prep
DESCRIPTION:
URL:https://circlechristianschool.org/event/golf-girls-v-windermere-prep/
LOCATION:Orange County National Golf Center\, 16301 Phil Ritson Way\, Winter Garden\, FL 34787\, Winter Garden\, Florida\, 34787\, United States
CATEGORIES:Athletics
ATTACH;FMTTYPE=image/jpeg:https://circlechristianschool.org/wp-content/uploads/2023/09/360_F_8489083_gyFQj5QhX6ZpoH42Vwasg2ZCl1duhntD.jpg
GEO:28.4432871;-81.6289929
X-APPLE-STRUCTURED-LOCATION;VALUE=URI;X-ADDRESS=Orange County National Golf Center 16301 Phil Ritson Way Winter Garden FL 34787 Winter Garden Florida 34787 United States;X-APPLE-RADIUS=500;X-TITLE=16301 Phil Ritson Way\, Winter Garden\, FL 34787:geo:-81.6289929,28.4432871
END:VEVENT
BEGIN:VEVENT
DTSTART;TZID=America/New_York:20240827T084000
DTEND;TZID=America/New_York:20240827T093000
DTSTAMP:20260420T051427
CREATED:20240703T185320Z
LAST-MODIFIED:20240703T185324Z
UID:10000808-1724748000-1724751000@circlechristianschool.org
SUMMARY:PAC Meet and Greet
DESCRIPTION:
URL:https://circlechristianschool.org/event/pac-meet-and-greet-2/
LOCATION:Calvary Orlando\, 1199 Clay St.\, Winter Park\, Florida\, 32789\, United States
CATEGORIES:Upper School
ATTACH;FMTTYPE=image/png:https://circlechristianschool.org/wp-content/uploads/2023/09/Screen-Shot-2023-09-13-at-1.37.42-PM.png
GEO:28.5875656;-81.3746553
X-APPLE-STRUCTURED-LOCATION;VALUE=URI;X-ADDRESS=Calvary Orlando 1199 Clay St. Winter Park Florida 32789 United States;X-APPLE-RADIUS=500;X-TITLE=1199 Clay St.:geo:-81.3746553,28.5875656
END:VEVENT
BEGIN:VEVENT
DTSTART;TZID=America/New_York:20240826T170000
DTEND;TZID=America/New_York:20240826T200000
DTSTAMP:20260420T051427
CREATED:20240823T015354Z
LAST-MODIFIED:20240823T015356Z
UID:10000828-1724691600-1724702400@circlechristianschool.org
SUMMARY:Volleyball JV/VAR V Forest Lake
DESCRIPTION:5:00 p.m.\, and 6:00 p.m. accordingly.
URL:https://circlechristianschool.org/event/volleyball-jv-var-v-forest-lake/
LOCATION:Forest Lake Academy\, 500 Education Loop\, Apopka\, Florida\, 32703\, United States
CATEGORIES:Athletics
ATTACH;FMTTYPE=image/jpeg:https://circlechristianschool.org/wp-content/uploads/2023/09/360_F_171817041_DkMe5qd77ba9cUPs2cHqPFsWtIFVy0o1.jpg
GEO:28.6700781;-81.4368687
X-APPLE-STRUCTURED-LOCATION;VALUE=URI;X-ADDRESS=Forest Lake Academy 500 Education Loop Apopka Florida 32703 United States;X-APPLE-RADIUS=500;X-TITLE=500 Education Loop:geo:-81.4368687,28.6700781
END:VEVENT
BEGIN:VEVENT
DTSTART;TZID=America/New_York:20240826T160000
DTEND;TZID=America/New_York:20240826T180000
DTSTAMP:20260420T051427
CREATED:20240823T015704Z
LAST-MODIFIED:20240823T015707Z
UID:10000829-1724688000-1724695200@circlechristianschool.org
SUMMARY:Volleyball MS V CF Prep
DESCRIPTION:Game time 4:00 p.m.
URL:https://circlechristianschool.org/event/volleyball-ms-v-cf-prep/
LOCATION:Central Florida Prep\, 100 Athletes Row\, Apopka\, Florida\, 32703\, United States
CATEGORIES:Athletics
ATTACH;FMTTYPE=image/jpeg:https://circlechristianschool.org/wp-content/uploads/2023/09/360_F_171817041_DkMe5qd77ba9cUPs2cHqPFsWtIFVy0o1.jpg
GEO:28.6761415;-81.5210992
X-APPLE-STRUCTURED-LOCATION;VALUE=URI;X-ADDRESS=Central Florida Prep 100 Athletes Row Apopka Florida 32703 United States;X-APPLE-RADIUS=500;X-TITLE=100 Athletes Row:geo:-81.5210992,28.6761415
END:VEVENT
BEGIN:VEVENT
DTSTART;TZID=America/New_York:20240826T160000
DTEND;TZID=America/New_York:20240826T160000
DTSTAMP:20260420T051427
CREATED:20240823T022443Z
LAST-MODIFIED:20240823T022514Z
UID:10000842-1724688000-1724688000@circlechristianschool.org
SUMMARY:Golf - Varsity Boys V Dr. Phillips
DESCRIPTION:
URL:https://circlechristianschool.org/event/golf-varsity-boys-v-dr-phillips/
LOCATION:Bay Hill\, 9000 Bay Hill Blvd\, Orlando\, Florida\, United States
CATEGORIES:Athletics
ATTACH;FMTTYPE=image/jpeg:https://circlechristianschool.org/wp-content/uploads/2023/09/360_F_8489083_gyFQj5QhX6ZpoH42Vwasg2ZCl1duhntD.jpg
GEO:28.4586676;-81.5113323
X-APPLE-STRUCTURED-LOCATION;VALUE=URI;X-ADDRESS=Bay Hill 9000 Bay Hill Blvd Orlando Florida United States;X-APPLE-RADIUS=500;X-TITLE=9000 Bay Hill Blvd:geo:-81.5113323,28.4586676
END:VEVENT
BEGIN:VEVENT
DTSTART;TZID=America/New_York:20240826T084000
DTEND;TZID=America/New_York:20240826T093000
DTSTAMP:20260420T051427
CREATED:20240703T185201Z
LAST-MODIFIED:20240703T185205Z
UID:10000807-1724661600-1724664600@circlechristianschool.org
SUMMARY:PAC Meet and Greet
DESCRIPTION:
URL:https://circlechristianschool.org/event/pac-meet-and-greet/
LOCATION:Foundry Campus\, 1491 E SR 434\, Winter Springs\, FL\, 32708\, United States
CATEGORIES:Upper School
ATTACH;FMTTYPE=image/png:https://circlechristianschool.org/wp-content/uploads/2023/09/Screen-Shot-2023-09-13-at-1.37.42-PM.png
GEO:28.6988853;-81.3081226
X-APPLE-STRUCTURED-LOCATION;VALUE=URI;X-ADDRESS=Foundry Campus 1491 E SR 434 Winter Springs FL 32708 United States;X-APPLE-RADIUS=500;X-TITLE=1491 E SR 434:geo:-81.3081226,28.6988853
END:VEVENT
BEGIN:VEVENT
DTSTART;TZID=America/New_York:20240824T140000
DTEND;TZID=America/New_York:20240824T170000
DTSTAMP:20260420T051427
CREATED:20240823T022032Z
LAST-MODIFIED:20240823T022034Z
UID:10000841-1724508000-1724518800@circlechristianschool.org
SUMMARY:Bowling Kegel High School Challenge
DESCRIPTION:
URL:https://circlechristianschool.org/event/bowling-kegel-high-school-challenge/
LOCATION:Kegel Training Center\, Kegel Training Center 1951 Longleaf Blvd\, Lake Whales\, Florida\, United States
CATEGORIES:Athletics
ATTACH;FMTTYPE=image/jpeg:https://circlechristianschool.org/wp-content/uploads/2023/09/istockphoto-908916136-612x612-1.jpg
GEO:27.8710085;-81.5950209
X-APPLE-STRUCTURED-LOCATION;VALUE=URI;X-ADDRESS=Kegel Training Center Kegel Training Center 1951 Longleaf Blvd Lake Whales Florida United States;X-APPLE-RADIUS=500;X-TITLE=Kegel Training Center 1951 Longleaf Blvd:geo:-81.5950209,27.8710085
END:VEVENT
BEGIN:VEVENT
DTSTART;TZID=America/New_York:20240820T163000
DTEND;TZID=America/New_York:20240820T203000
DTSTAMP:20260420T051427
CREATED:20240817T021539Z
LAST-MODIFIED:20240817T021957Z
UID:10000820-1724171400-1724185800@circlechristianschool.org
SUMMARY:First Volleyball Home Game MS/JV/VAR V Real Life Academy
DESCRIPTION:4:30 p.m.\, 5:30 p.m.\, 6:30 p.m. accordingly.
URL:https://circlechristianschool.org/event/first-volleyball-home-game-ms-jv-var-v-real-life-academy/
LOCATION:Willow Creek Presbyterian Church\, 4725 E Lake Dr\, Winter Springs\, Florida\, 32708\, United States
CATEGORIES:Athletics
ATTACH;FMTTYPE=image/jpeg:https://circlechristianschool.org/wp-content/uploads/2023/09/360_F_171817041_DkMe5qd77ba9cUPs2cHqPFsWtIFVy0o1.jpg
GEO:28.6617549;-81.2840999
X-APPLE-STRUCTURED-LOCATION;VALUE=URI;X-ADDRESS=Willow Creek Presbyterian Church 4725 E Lake Dr Winter Springs Florida 32708 United States;X-APPLE-RADIUS=500;X-TITLE=4725 E Lake Dr:geo:-81.2840999,28.6617549
END:VEVENT
BEGIN:VEVENT
DTSTART;TZID=America/New_York:20240812T081500
DTEND;TZID=America/New_York:20240816T083000
DTSTAMP:20260420T051427
CREATED:20240703T185033Z
LAST-MODIFIED:20240703T185039Z
UID:10000806-1723450500-1723797000@circlechristianschool.org
SUMMARY: Donut Days (Week)
DESCRIPTION:Donuts for students available from 8:15 A.M. – 8:30 A.M. at the WP\, WS\, and WG campuses.
URL:https://circlechristianschool.org/event/donut-days-week/
LOCATION:FL
CATEGORIES:Upper School
ATTACH;FMTTYPE=image/png:https://circlechristianschool.org/wp-content/uploads/2023/09/Screen-Shot-2023-09-13-at-1.37.42-PM.png
END:VEVENT
BEGIN:VEVENT
DTSTART;TZID=America/New_York:20240812T000000
DTEND;TZID=America/New_York:20240812T235959
DTSTAMP:20260420T051427
CREATED:20240702T213654Z
LAST-MODIFIED:20240702T213658Z
UID:10000786-1723420800-1723507199@circlechristianschool.org
SUMMARY:Campus Classes Begin for Fall Semester
DESCRIPTION:
URL:https://circlechristianschool.org/event/campus-classes-begin-for-fall-semester/
LOCATION:FL
CATEGORIES:All School
ATTACH;FMTTYPE=image/png:https://circlechristianschool.org/wp-content/uploads/2023/09/ccslogoright1-copy.png
END:VEVENT
BEGIN:VEVENT
DTSTART;TZID=America/New_York:20240806T180000
DTEND;TZID=America/New_York:20240806T200000
DTSTAMP:20260420T051427
CREATED:20240703T205415Z
LAST-MODIFIED:20240703T205419Z
UID:10000809-1722967200-1722974400@circlechristianschool.org
SUMMARY:Back to School Kick Off & Meet the Teacher
DESCRIPTION:
URL:https://circlechristianschool.org/event/back-to-school-kick-off-meet-the-teacher/
LOCATION:Foundry Campus\, 1491 E SR 434\, Winter Springs\, FL\, 32708\, United States
CATEGORIES:Upper School
ATTACH;FMTTYPE=image/png:https://circlechristianschool.org/wp-content/uploads/2023/09/Screen-Shot-2023-09-13-at-1.37.42-PM.png
GEO:28.6988853;-81.3081226
X-APPLE-STRUCTURED-LOCATION;VALUE=URI;X-ADDRESS=Foundry Campus 1491 E SR 434 Winter Springs FL 32708 United States;X-APPLE-RADIUS=500;X-TITLE=1491 E SR 434:geo:-81.3081226,28.6988853
END:VEVENT
BEGIN:VEVENT
DTSTART;TZID=America/New_York:20240806T090000
DTEND;TZID=America/New_York:20240806T090000
DTSTAMP:20260420T051427
CREATED:20240702T213155Z
LAST-MODIFIED:20240702T220452Z
UID:10000783-1722934800-1722934800@circlechristianschool.org
SUMMARY:IEW Writing Workshop
DESCRIPTION:This workshop will be online. On August 6th at 9:00 a.m. for new 5th-6th students and 10:30 a.m. for new parents using IEW.
URL:https://circlechristianschool.org/event/iew-writing-workshop/
LOCATION:FL
CATEGORIES:Lower School
ATTACH;FMTTYPE=image/png:https://circlechristianschool.org/wp-content/uploads/2023/09/Screen-Shot-2023-09-13-at-1.38.00-PM.png
END:VEVENT
BEGIN:VEVENT
DTSTART;TZID=America/New_York:20240806T000000
DTEND;TZID=America/New_York:20240806T235959
DTSTAMP:20260420T051427
CREATED:20240702T213340Z
LAST-MODIFIED:20240807T173839Z
UID:10000784-1722902400-1722988799@circlechristianschool.org
SUMMARY:Upper School Class Orientation Week and Meet the Teacher
DESCRIPTION:
URL:https://circlechristianschool.org/event/upper-school-class-orientation-week-and-meet-the-teacher/
LOCATION:FL
CATEGORIES:Upper School
ATTACH;FMTTYPE=image/png:https://circlechristianschool.org/wp-content/uploads/2023/09/Screen-Shot-2023-09-13-at-1.37.42-PM.png
END:VEVENT
BEGIN:VEVENT
DTSTART;TZID=America/New_York:20240805T103000
DTEND;TZID=America/New_York:20240805T114500
DTSTAMP:20260420T051427
CREATED:20240702T212930Z
LAST-MODIFIED:20240702T212933Z
UID:10000782-1722853800-1722858300@circlechristianschool.org
SUMMARY:Lower School Meet the Teacher Winter Garden
DESCRIPTION:
URL:https://circlechristianschool.org/event/lower-school-meet-the-teacher-winter-garden/
LOCATION:Harvest Korean Presbyterian\, 16796 E. Davenport Road\, Winter Garden\, FL\, Florida\, 34787\, United States
CATEGORIES:Lower School
ATTACH;FMTTYPE=image/png:https://circlechristianschool.org/wp-content/uploads/2023/09/Screen-Shot-2023-09-13-at-1.38.00-PM.png
GEO:28.5030116;-81.6386983
X-APPLE-STRUCTURED-LOCATION;VALUE=URI;X-ADDRESS=Harvest Korean Presbyterian 16796 E. Davenport Road Winter Garden FL Florida 34787 United States;X-APPLE-RADIUS=500;X-TITLE=16796 E. Davenport Road:geo:-81.6386983,28.5030116
END:VEVENT
BEGIN:VEVENT
DTSTART;TZID=America/New_York:20240805T000000
DTEND;TZID=America/New_York:20240809T235959
DTSTAMP:20260420T051427
CREATED:20240708T160424Z
LAST-MODIFIED:20240708T160429Z
UID:10000810-1722816000-1723247999@circlechristianschool.org
SUMMARY:Upper School Online Orientation
DESCRIPTION:Online through the Canvas Portal.
URL:https://circlechristianschool.org/event/upper-school-online-orientation/
LOCATION:FL
CATEGORIES:Upper School
ATTACH;FMTTYPE=image/png:https://circlechristianschool.org/wp-content/uploads/2023/09/Screen-Shot-2023-09-13-at-1.37.42-PM.png
END:VEVENT
BEGIN:VEVENT
DTSTART;TZID=America/New_York:20240805T000000
DTEND;TZID=America/New_York:20240809T235959
DTSTAMP:20260420T051427
CREATED:20240702T213544Z
LAST-MODIFIED:20240702T213549Z
UID:10000785-1722816000-1723247999@circlechristianschool.org
SUMMARY:Fall Semester Begins – Extension Days
DESCRIPTION:
URL:https://circlechristianschool.org/event/fall-semester-begins-extension-days/
LOCATION:FL
CATEGORIES:All School
ATTACH;FMTTYPE=image/png:https://circlechristianschool.org/wp-content/uploads/2023/09/ccslogoright1-copy.png
END:VEVENT
BEGIN:VEVENT
DTSTART;TZID=America/New_York:20240802T103000
DTEND;TZID=America/New_York:20240802T114500
DTSTAMP:20260420T051427
CREATED:20240702T212813Z
LAST-MODIFIED:20240702T212816Z
UID:10000781-1722594600-1722599100@circlechristianschool.org
SUMMARY:Lower School Meet the Teacher Winter Springs
DESCRIPTION:
URL:https://circlechristianschool.org/event/lower-school-meet-the-teacher-winter-springs/
LOCATION:Foundry Campus\, 1491 E SR 434\, Winter Springs\, FL\, 32708\, United States
CATEGORIES:Lower School
ATTACH;FMTTYPE=image/png:https://circlechristianschool.org/wp-content/uploads/2023/09/Screen-Shot-2023-09-13-at-1.38.00-PM.png
GEO:28.6988853;-81.3081226
X-APPLE-STRUCTURED-LOCATION;VALUE=URI;X-ADDRESS=Foundry Campus 1491 E SR 434 Winter Springs FL 32708 United States;X-APPLE-RADIUS=500;X-TITLE=1491 E SR 434:geo:-81.3081226,28.6988853
END:VEVENT
BEGIN:VEVENT
DTSTART;TZID=America/New_York:20240801T180000
DTEND;TZID=America/New_York:20240801T213000
DTSTAMP:20260420T051427
CREATED:20240702T212707Z
LAST-MODIFIED:20240702T212710Z
UID:10000780-1722535200-1722547800@circlechristianschool.org
SUMMARY:Lower School Parent Orientation Winter Garden
DESCRIPTION:
URL:https://circlechristianschool.org/event/lower-school-parent-orientation-winter-garden/
LOCATION:Harvest Korean Presbyterian\, 16796 E. Davenport Road\, Winter Garden\, FL\, Florida\, 34787\, United States
CATEGORIES:Lower School
ATTACH;FMTTYPE=image/png:https://circlechristianschool.org/wp-content/uploads/2023/09/Screen-Shot-2023-09-13-at-1.38.00-PM.png
GEO:28.5030116;-81.6386983
X-APPLE-STRUCTURED-LOCATION;VALUE=URI;X-ADDRESS=Harvest Korean Presbyterian 16796 E. Davenport Road Winter Garden FL Florida 34787 United States;X-APPLE-RADIUS=500;X-TITLE=16796 E. Davenport Road:geo:-81.6386983,28.5030116
END:VEVENT
BEGIN:VEVENT
DTSTART;TZID=America/New_York:20240801T103000
DTEND;TZID=America/New_York:20240801T114500
DTSTAMP:20260420T051427
CREATED:20240702T212534Z
LAST-MODIFIED:20240702T220327Z
UID:10000779-1722508200-1722512700@circlechristianschool.org
SUMMARY:Lower School Meet the Teacher Winter Park
DESCRIPTION:
URL:https://circlechristianschool.org/event/lower-school-meet-the-teacher-wp/
LOCATION:Calvary Orlando\, 1199 Clay St.\, Winter Park\, Florida\, 32789\, United States
CATEGORIES:Lower School
ATTACH;FMTTYPE=image/png:https://circlechristianschool.org/wp-content/uploads/2023/09/Screen-Shot-2023-09-13-at-1.38.00-PM.png
GEO:28.5875656;-81.3746553
X-APPLE-STRUCTURED-LOCATION;VALUE=URI;X-ADDRESS=Calvary Orlando 1199 Clay St. Winter Park Florida 32789 United States;X-APPLE-RADIUS=500;X-TITLE=1199 Clay St.:geo:-81.3746553,28.5875656
END:VEVENT
BEGIN:VEVENT
DTSTART;TZID=America/New_York:20240801T000000
DTEND;TZID=America/New_York:20240801T235959
DTSTAMP:20260420T051427
CREATED:20240702T214012Z
LAST-MODIFIED:20240702T214016Z
UID:10000789-1722470400-1722556799@circlechristianschool.org
SUMMARY:Fall Athletic Season Begins
DESCRIPTION:(Bowling\, Cross Country\, Golf\, Swimming\, Volleyball\, MS Soccer)
URL:https://circlechristianschool.org/event/fall-athletic-season-begins/
LOCATION:FL
CATEGORIES:Athletics
ATTACH;FMTTYPE=image/png:https://circlechristianschool.org/wp-content/uploads/2024/02/Centurion_sports_logo.png
END:VEVENT
BEGIN:VEVENT
DTSTART;TZID=America/New_York:20240730T180000
DTEND;TZID=America/New_York:20240730T213000
DTSTAMP:20260420T051427
CREATED:20240606T175321Z
LAST-MODIFIED:20240702T220233Z
UID:10000778-1722362400-1722375000@circlechristianschool.org
SUMMARY:Lower School Parent Orientation Winter Springs
DESCRIPTION:Foundry\, WS Campus
URL:https://circlechristianschool.org/event/lower-school-parent-orientation-2/
LOCATION:Foundry Campus\, 1491 E SR 434\, Winter Springs\, FL\, 32708\, United States
CATEGORIES:Lower School
ATTACH;FMTTYPE=image/png:https://circlechristianschool.org/wp-content/uploads/2023/09/Screen-Shot-2023-09-13-at-1.38.00-PM.png
GEO:28.6988853;-81.3081226
X-APPLE-STRUCTURED-LOCATION;VALUE=URI;X-ADDRESS=Foundry Campus 1491 E SR 434 Winter Springs FL 32708 United States;X-APPLE-RADIUS=500;X-TITLE=1491 E SR 434:geo:-81.3081226,28.6988853
END:VEVENT
BEGIN:VEVENT
DTSTART;TZID=America/New_York:20240729T180000
DTEND;TZID=America/New_York:20240729T213000
DTSTAMP:20260420T051427
CREATED:20240606T175214Z
LAST-MODIFIED:20240702T220123Z
UID:10000777-1722276000-1722288600@circlechristianschool.org
SUMMARY: Lower School Parent Orientation Winter Park
DESCRIPTION:Calvary Orlando\, WP Campus
URL:https://circlechristianschool.org/event/lower-school-parent-orientation/
LOCATION:Calvary Orlando\, 1199 Clay St.\, Winter Park\, Florida\, 32789\, United States
CATEGORIES:Lower School
ATTACH;FMTTYPE=image/png:https://circlechristianschool.org/wp-content/uploads/2023/09/Screen-Shot-2023-09-13-at-1.38.00-PM.png
GEO:28.5875656;-81.3746553
X-APPLE-STRUCTURED-LOCATION;VALUE=URI;X-ADDRESS=Calvary Orlando 1199 Clay St. Winter Park Florida 32789 United States;X-APPLE-RADIUS=500;X-TITLE=1199 Clay St.:geo:-81.3746553,28.5875656
END:VEVENT
BEGIN:VEVENT
DTSTART;TZID=America/New_York:20240628T100000
DTEND;TZID=America/New_York:20240628T120000
DTSTAMP:20260420T051427
CREATED:20240503T172504Z
LAST-MODIFIED:20240628T140711Z
UID:10000775-1719568800-1719576000@circlechristianschool.org
SUMMARY:2024-25 Theatre Orientation
DESCRIPTION:Winter Springs Campus
URL:https://circlechristianschool.org/event/2024-25-theatre-orientation/
LOCATION:Foundry Campus\, 1491 E SR 434\, Winter Springs\, FL\, 32708\, United States
CATEGORIES:Theater
ATTACH;FMTTYPE=image/jpeg:https://circlechristianschool.org/wp-content/uploads/2023/09/photo-1503095396549-807759245b35.jpg
GEO:28.6988853;-81.3081226
X-APPLE-STRUCTURED-LOCATION;VALUE=URI;X-ADDRESS=Foundry Campus 1491 E SR 434 Winter Springs FL 32708 United States;X-APPLE-RADIUS=500;X-TITLE=1491 E SR 434:geo:-81.3081226,28.6988853
END:VEVENT
BEGIN:VEVENT
DTSTART;TZID=America/New_York:20240628T000000
DTEND;TZID=America/New_York:20240628T235959
DTSTAMP:20260420T051427
CREATED:20240204T035430Z
LAST-MODIFIED:20240204T035432Z
UID:10000626-1719532800-1719619199@circlechristianschool.org
SUMMARY:Enrollment Closes
DESCRIPTION:
URL:https://circlechristianschool.org/event/enrollment-closes/
LOCATION:FL
CATEGORIES:Enrollment
ATTACH;FMTTYPE=image/png:https://circlechristianschool.org/wp-content/uploads/2023/09/ccslogoright1-copy.png
END:VEVENT
BEGIN:VEVENT
DTSTART;TZID=America/New_York:20240607T000000
DTEND;TZID=America/New_York:20240607T235959
DTSTAMP:20260420T051427
CREATED:20240204T035350Z
LAST-MODIFIED:20240204T035352Z
UID:10000625-1717718400-1717804799@circlechristianschool.org
SUMMARY:Class Registration and Admission Inquiries Close
DESCRIPTION:
URL:https://circlechristianschool.org/event/class-registration-and-admission-inquiries-close/
LOCATION:FL
CATEGORIES:Enrollment
ATTACH;FMTTYPE=image/png:https://circlechristianschool.org/wp-content/uploads/2023/09/ccslogoright1-copy.png
END:VEVENT
END:VCALENDAR