BEGIN:VCALENDAR
VERSION:2.0
PRODID:-//Circle Christian Schools - ECPv6.15.11//NONSGML v1.0//EN
CALSCALE:GREGORIAN
METHOD:PUBLISH
X-WR-CALNAME:Circle Christian Schools
X-ORIGINAL-URL:https://circlechristianschool.org
X-WR-CALDESC:Events for Circle Christian Schools
REFRESH-INTERVAL;VALUE=DURATION:PT1H
X-Robots-Tag:noindex
X-PUBLISHED-TTL:PT1H
BEGIN:VTIMEZONE
TZID:America/New_York
BEGIN:DAYLIGHT
TZOFFSETFROM:-0500
TZOFFSETTO:-0400
TZNAME:EDT
DTSTART:20230312T070000
END:DAYLIGHT
BEGIN:STANDARD
TZOFFSETFROM:-0400
TZOFFSETTO:-0500
TZNAME:EST
DTSTART:20231105T060000
END:STANDARD
BEGIN:DAYLIGHT
TZOFFSETFROM:-0500
TZOFFSETTO:-0400
TZNAME:EDT
DTSTART:20240310T070000
END:DAYLIGHT
BEGIN:STANDARD
TZOFFSETFROM:-0400
TZOFFSETTO:-0500
TZNAME:EST
DTSTART:20241103T060000
END:STANDARD
BEGIN:DAYLIGHT
TZOFFSETFROM:-0500
TZOFFSETTO:-0400
TZNAME:EDT
DTSTART:20250309T070000
END:DAYLIGHT
BEGIN:STANDARD
TZOFFSETFROM:-0400
TZOFFSETTO:-0500
TZNAME:EST
DTSTART:20251102T060000
END:STANDARD
END:VTIMEZONE
BEGIN:VEVENT
DTSTART;TZID=America/New_York:20240801T103000
DTEND;TZID=America/New_York:20240801T114500
DTSTAMP:20260423T044705
CREATED:20240702T212534Z
LAST-MODIFIED:20240702T220327Z
UID:10000779-1722508200-1722512700@circlechristianschool.org
SUMMARY:Lower School Meet the Teacher Winter Park
DESCRIPTION:
URL:https://circlechristianschool.org/event/lower-school-meet-the-teacher-wp/
LOCATION:Calvary Orlando\, 1199 Clay St.\, Winter Park\, Florida\, 32789\, United States
CATEGORIES:Lower School
ATTACH;FMTTYPE=image/png:https://circlechristianschool.org/wp-content/uploads/2023/09/Screen-Shot-2023-09-13-at-1.38.00-PM.png
GEO:28.5875656;-81.3746553
X-APPLE-STRUCTURED-LOCATION;VALUE=URI;X-ADDRESS=Calvary Orlando 1199 Clay St. Winter Park Florida 32789 United States;X-APPLE-RADIUS=500;X-TITLE=1199 Clay St.:geo:-81.3746553,28.5875656
END:VEVENT
BEGIN:VEVENT
DTSTART;TZID=America/New_York:20240801T000000
DTEND;TZID=America/New_York:20240801T235959
DTSTAMP:20260423T044705
CREATED:20240702T214012Z
LAST-MODIFIED:20240702T214016Z
UID:10000789-1722470400-1722556799@circlechristianschool.org
SUMMARY:Fall Athletic Season Begins
DESCRIPTION:(Bowling\, Cross Country\, Golf\, Swimming\, Volleyball\, MS Soccer)
URL:https://circlechristianschool.org/event/fall-athletic-season-begins/
LOCATION:FL
CATEGORIES:Athletics
ATTACH;FMTTYPE=image/png:https://circlechristianschool.org/wp-content/uploads/2024/02/Centurion_sports_logo.png
END:VEVENT
BEGIN:VEVENT
DTSTART;TZID=America/New_York:20240730T180000
DTEND;TZID=America/New_York:20240730T213000
DTSTAMP:20260423T044705
CREATED:20240606T175321Z
LAST-MODIFIED:20240702T220233Z
UID:10000778-1722362400-1722375000@circlechristianschool.org
SUMMARY:Lower School Parent Orientation Winter Springs
DESCRIPTION:Foundry\, WS Campus
URL:https://circlechristianschool.org/event/lower-school-parent-orientation-2/
LOCATION:Foundry Campus\, 1491 E SR 434\, Winter Springs\, FL\, 32708\, United States
CATEGORIES:Lower School
ATTACH;FMTTYPE=image/png:https://circlechristianschool.org/wp-content/uploads/2023/09/Screen-Shot-2023-09-13-at-1.38.00-PM.png
GEO:28.6988853;-81.3081226
X-APPLE-STRUCTURED-LOCATION;VALUE=URI;X-ADDRESS=Foundry Campus 1491 E SR 434 Winter Springs FL 32708 United States;X-APPLE-RADIUS=500;X-TITLE=1491 E SR 434:geo:-81.3081226,28.6988853
END:VEVENT
BEGIN:VEVENT
DTSTART;TZID=America/New_York:20240729T180000
DTEND;TZID=America/New_York:20240729T213000
DTSTAMP:20260423T044705
CREATED:20240606T175214Z
LAST-MODIFIED:20240702T220123Z
UID:10000777-1722276000-1722288600@circlechristianschool.org
SUMMARY: Lower School Parent Orientation Winter Park
DESCRIPTION:Calvary Orlando\, WP Campus
URL:https://circlechristianschool.org/event/lower-school-parent-orientation/
LOCATION:Calvary Orlando\, 1199 Clay St.\, Winter Park\, Florida\, 32789\, United States
CATEGORIES:Lower School
ATTACH;FMTTYPE=image/png:https://circlechristianschool.org/wp-content/uploads/2023/09/Screen-Shot-2023-09-13-at-1.38.00-PM.png
GEO:28.5875656;-81.3746553
X-APPLE-STRUCTURED-LOCATION;VALUE=URI;X-ADDRESS=Calvary Orlando 1199 Clay St. Winter Park Florida 32789 United States;X-APPLE-RADIUS=500;X-TITLE=1199 Clay St.:geo:-81.3746553,28.5875656
END:VEVENT
BEGIN:VEVENT
DTSTART;TZID=America/New_York:20240628T100000
DTEND;TZID=America/New_York:20240628T120000
DTSTAMP:20260423T044705
CREATED:20240503T172504Z
LAST-MODIFIED:20240628T140711Z
UID:10000775-1719568800-1719576000@circlechristianschool.org
SUMMARY:2024-25 Theatre Orientation
DESCRIPTION:Winter Springs Campus
URL:https://circlechristianschool.org/event/2024-25-theatre-orientation/
LOCATION:Foundry Campus\, 1491 E SR 434\, Winter Springs\, FL\, 32708\, United States
CATEGORIES:Theater
ATTACH;FMTTYPE=image/jpeg:https://circlechristianschool.org/wp-content/uploads/2023/09/photo-1503095396549-807759245b35.jpg
GEO:28.6988853;-81.3081226
X-APPLE-STRUCTURED-LOCATION;VALUE=URI;X-ADDRESS=Foundry Campus 1491 E SR 434 Winter Springs FL 32708 United States;X-APPLE-RADIUS=500;X-TITLE=1491 E SR 434:geo:-81.3081226,28.6988853
END:VEVENT
BEGIN:VEVENT
DTSTART;TZID=America/New_York:20240628T000000
DTEND;TZID=America/New_York:20240628T235959
DTSTAMP:20260423T044705
CREATED:20240204T035430Z
LAST-MODIFIED:20240204T035432Z
UID:10000626-1719532800-1719619199@circlechristianschool.org
SUMMARY:Enrollment Closes
DESCRIPTION:
URL:https://circlechristianschool.org/event/enrollment-closes/
LOCATION:FL
CATEGORIES:Enrollment
ATTACH;FMTTYPE=image/png:https://circlechristianschool.org/wp-content/uploads/2023/09/ccslogoright1-copy.png
END:VEVENT
BEGIN:VEVENT
DTSTART;TZID=America/New_York:20240607T000000
DTEND;TZID=America/New_York:20240607T235959
DTSTAMP:20260423T044705
CREATED:20240204T035350Z
LAST-MODIFIED:20240204T035352Z
UID:10000625-1717718400-1717804799@circlechristianschool.org
SUMMARY:Class Registration and Admission Inquiries Close
DESCRIPTION:
URL:https://circlechristianschool.org/event/class-registration-and-admission-inquiries-close/
LOCATION:FL
CATEGORIES:Enrollment
ATTACH;FMTTYPE=image/png:https://circlechristianschool.org/wp-content/uploads/2023/09/ccslogoright1-copy.png
END:VEVENT
BEGIN:VEVENT
DTSTART;TZID=America/New_York:20240607T000000
DTEND;TZID=America/New_York:20240607T235959
DTSTAMP:20260423T044705
CREATED:20240204T035235Z
LAST-MODIFIED:20240204T035237Z
UID:10000624-1717718400-1717804799@circlechristianschool.org
SUMMARY:Last day to Drop Classes/Un-Enroll Without Financial Responsibility
DESCRIPTION:
URL:https://circlechristianschool.org/event/last-day-to-drop-classes-un-enroll-without-financial-responsibility/
LOCATION:FL
CATEGORIES:Enrollment
ATTACH;FMTTYPE=image/png:https://circlechristianschool.org/wp-content/uploads/2023/09/ccslogoright1-copy.png
END:VEVENT
BEGIN:VEVENT
DTSTART;TZID=America/New_York:20240518T150000
DTEND;TZID=America/New_York:20240518T170000
DTSTAMP:20260423T044705
CREATED:20230924T162425Z
LAST-MODIFIED:20240401T180700Z
UID:10000456-1716044400-1716051600@circlechristianschool.org
SUMMARY:High School Graduation
DESCRIPTION:
URL:https://circlechristianschool.org/event/high-school-graduation/
LOCATION:Calvary Orlando\, 1199 Clay St.\, Winter Park\, Florida\, 32789\, United States
CATEGORIES:Upper School
ATTACH;FMTTYPE=image/jpeg:https://circlechristianschool.org/wp-content/uploads/2023/09/istockphoto-1145869719-612x612-1.jpg
GEO:28.5875656;-81.3746553
X-APPLE-STRUCTURED-LOCATION;VALUE=URI;X-ADDRESS=Calvary Orlando 1199 Clay St. Winter Park Florida 32789 United States;X-APPLE-RADIUS=500;X-TITLE=1199 Clay St.:geo:-81.3746553,28.5875656
END:VEVENT
BEGIN:VEVENT
DTSTART;TZID=America/New_York:20240516T000000
DTEND;TZID=America/New_York:20240516T235959
DTSTAMP:20260423T044705
CREATED:20240318T165223Z
LAST-MODIFIED:20240318T165226Z
UID:10000749-1715817600-1715903999@circlechristianschool.org
SUMMARY:Universal's Islands of Adventure Grad Day
DESCRIPTION:Senior and their families only.
URL:https://circlechristianschool.org/event/universals-islands-of-adventure-grad-day/
LOCATION:FL
CATEGORIES:Upper School
ATTACH;FMTTYPE=image/jpeg:https://circlechristianschool.org/wp-content/uploads/2024/03/GRAD.jpg
END:VEVENT
BEGIN:VEVENT
DTSTART;TZID=America/New_York:20240516T000000
DTEND;TZID=America/New_York:20240516T235959
DTSTAMP:20260423T044705
CREATED:20230924T161924Z
LAST-MODIFIED:20240401T144856Z
UID:10000760-1715817600-1715903999@circlechristianschool.org
SUMMARY:Spring NWEA Testing Days
DESCRIPTION:Testing Window Opens: 9:00 AM Test \n\n\n\nTesting Window Opens: 12:00 Noon Test
URL:https://circlechristianschool.org/event/spring-nwea-testing-days/2024-05-16/
LOCATION:FL
CATEGORIES:Guidance
ATTACH;FMTTYPE=image/png:https://circlechristianschool.org/wp-content/uploads/2023/09/0-3.png
END:VEVENT
BEGIN:VEVENT
DTSTART;TZID=America/New_York:20240515T100000
DTEND;TZID=America/New_York:20240515T140000
DTSTAMP:20260423T044705
CREATED:20240219T170902Z
LAST-MODIFIED:20240219T170904Z
UID:10000700-1715767200-1715781600@circlechristianschool.org
SUMMARY:Track and Field FHSAA State 1A Championship
DESCRIPTION:
URL:https://circlechristianschool.org/event/track-and-field-fhsaa-state-1a-championship/
LOCATION:University of North Florida
CATEGORIES:Athletics
ATTACH;FMTTYPE=image/jpeg:https://circlechristianschool.org/wp-content/uploads/2024/02/track-and-field-varsity.jpg
END:VEVENT
BEGIN:VEVENT
DTSTART;TZID=America/New_York:20240515T000000
DTEND;TZID=America/New_York:20240515T235959
DTSTAMP:20260423T044705
CREATED:20230924T161924Z
LAST-MODIFIED:20240401T144856Z
UID:10000759-1715731200-1715817599@circlechristianschool.org
SUMMARY:Spring NWEA Testing Days
DESCRIPTION:Testing Window Opens: 9:00 AM Test \n\n\n\nTesting Window Opens: 12:00 Noon Test
URL:https://circlechristianschool.org/event/spring-nwea-testing-days/2024-05-15/
LOCATION:FL
CATEGORIES:Guidance
ATTACH;FMTTYPE=image/png:https://circlechristianschool.org/wp-content/uploads/2023/09/0-3.png
END:VEVENT
BEGIN:VEVENT
DTSTART;TZID=America/New_York:20240514T190000
DTEND;TZID=America/New_York:20240514T213000
DTSTAMP:20260423T044705
CREATED:20240219T171556Z
LAST-MODIFIED:20240219T171558Z
UID:10000701-1715713200-1715722200@circlechristianschool.org
SUMMARY:Athletics Awards Night
DESCRIPTION:
URL:https://circlechristianschool.org/event/athletics-awards-night-2/
LOCATION:Foundry Campus\, 1491 E SR 434\, Winter Springs\, FL\, 32708\, United States
CATEGORIES:Athletics
ATTACH;FMTTYPE=image/png:https://circlechristianschool.org/wp-content/uploads/2024/02/Centurion_sports_logo.png
GEO:28.6988853;-81.3081226
X-APPLE-STRUCTURED-LOCATION;VALUE=URI;X-ADDRESS=Foundry Campus 1491 E SR 434 Winter Springs FL 32708 United States;X-APPLE-RADIUS=500;X-TITLE=1491 E SR 434:geo:-81.3081226,28.6988853
END:VEVENT
BEGIN:VEVENT
DTSTART;TZID=America/New_York:20240514T000000
DTEND;TZID=America/New_York:20240514T235959
DTSTAMP:20260423T044705
CREATED:20230924T162334Z
LAST-MODIFIED:20230924T162338Z
UID:10000455-1715644800-1715731199@circlechristianschool.org
SUMMARY:End of the School Year
DESCRIPTION:
URL:https://circlechristianschool.org/event/end-of-the-school-year/
LOCATION:FL
CATEGORIES:All School
ATTACH;FMTTYPE=image/png:https://circlechristianschool.org/wp-content/uploads/2023/09/ccslogoright1-copy.png
END:VEVENT
BEGIN:VEVENT
DTSTART;TZID=America/New_York:20240514T000000
DTEND;TZID=America/New_York:20240514T235959
DTSTAMP:20260423T044705
CREATED:20230924T161924Z
LAST-MODIFIED:20240401T144856Z
UID:10000758-1715644800-1715731199@circlechristianschool.org
SUMMARY:Spring NWEA Testing Days
DESCRIPTION:Testing Window Opens: 9:00 AM Test \n\n\n\nTesting Window Opens: 12:00 Noon Test
URL:https://circlechristianschool.org/event/spring-nwea-testing-days/2024-05-14/
LOCATION:FL
CATEGORIES:Guidance
ATTACH;FMTTYPE=image/png:https://circlechristianschool.org/wp-content/uploads/2023/09/0-3.png
END:VEVENT
BEGIN:VEVENT
DTSTART;TZID=America/New_York:20240513T100000
DTEND;TZID=America/New_York:20240513T100000
DTSTAMP:20260423T044705
CREATED:20240318T164627Z
LAST-MODIFIED:20240401T040243Z
UID:10000748-1715594400-1715594400@circlechristianschool.org
SUMMARY:Senior Breakfast
DESCRIPTION:
URL:https://circlechristianschool.org/event/senior-breakfast/
LOCATION:Calvary Orlando\, 1199 Clay St.\, Winter Park\, Florida\, 32789\, United States
CATEGORIES:Upper School
ATTACH;FMTTYPE=image/jpeg:https://circlechristianschool.org/wp-content/uploads/2024/03/SENIORBREAKFAST2024.jpg
GEO:28.5875656;-81.3746553
X-APPLE-STRUCTURED-LOCATION;VALUE=URI;X-ADDRESS=Calvary Orlando 1199 Clay St. Winter Park Florida 32789 United States;X-APPLE-RADIUS=500;X-TITLE=1199 Clay St.:geo:-81.3746553,28.5875656
END:VEVENT
BEGIN:VEVENT
DTSTART;TZID=America/New_York:20240509T100000
DTEND;TZID=America/New_York:20240509T130000
DTSTAMP:20260423T044705
CREATED:20240318T131824Z
LAST-MODIFIED:20240318T131826Z
UID:10000747-1715248800-1715259600@circlechristianschool.org
SUMMARY:2024 EPCOT Foreign Language Field Trip
DESCRIPTION:Spanish and French students are meeting at Epcot at 10AM\, Thursday May 9th.
URL:https://circlechristianschool.org/event/2024-epcot-foreign-language-field-trip/
LOCATION:FL
CATEGORIES:Upper School
ATTACH;FMTTYPE=image/jpeg:https://circlechristianschool.org/wp-content/uploads/2024/03/download.jpg
END:VEVENT
BEGIN:VEVENT
DTSTART;TZID=America/New_York:20240509T000000
DTEND;TZID=America/New_York:20240509T235959
DTSTAMP:20260423T044705
CREATED:20230924T161924Z
LAST-MODIFIED:20240401T144856Z
UID:10000757-1715212800-1715299199@circlechristianschool.org
SUMMARY:Spring NWEA Testing Days
DESCRIPTION:Testing Window Opens: 9:00 AM Test \n\n\n\nTesting Window Opens: 12:00 Noon Test
URL:https://circlechristianschool.org/event/spring-nwea-testing-days/2024-05-09/
LOCATION:FL
CATEGORIES:Guidance
ATTACH;FMTTYPE=image/png:https://circlechristianschool.org/wp-content/uploads/2023/09/0-3.png
END:VEVENT
BEGIN:VEVENT
DTSTART;TZID=America/New_York:20240508T000000
DTEND;TZID=America/New_York:20240508T235959
DTSTAMP:20260423T044705
CREATED:20230924T161924Z
LAST-MODIFIED:20240401T144856Z
UID:10000756-1715126400-1715212799@circlechristianschool.org
SUMMARY:Spring NWEA Testing Days
DESCRIPTION:Testing Window Opens: 9:00 AM Test \n\n\n\nTesting Window Opens: 12:00 Noon Test
URL:https://circlechristianschool.org/event/spring-nwea-testing-days/2024-05-08/
LOCATION:FL
CATEGORIES:Guidance
ATTACH;FMTTYPE=image/png:https://circlechristianschool.org/wp-content/uploads/2023/09/0-3.png
END:VEVENT
BEGIN:VEVENT
DTSTART;TZID=America/New_York:20240507T180000
DTEND;TZID=America/New_York:20240507T220000
DTSTAMP:20260423T044705
CREATED:20240402T134317Z
LAST-MODIFIED:20240503T172256Z
UID:10000770-1715104800-1715119200@circlechristianschool.org
SUMMARY:Prom: The Great Gatsby
DESCRIPTION:
URL:https://circlechristianschool.org/event/prom-the-great-gatsby/
LOCATION:FL
CATEGORIES:Upper School
ATTACH;FMTTYPE=image/jpeg:https://circlechristianschool.org/wp-content/uploads/2024/04/download.jpg
END:VEVENT
BEGIN:VEVENT
DTSTART;TZID=America/New_York:20240507T100000
DTEND;TZID=America/New_York:20240507T140000
DTSTAMP:20260423T044705
CREATED:20240219T170743Z
LAST-MODIFIED:20240219T170745Z
UID:10000699-1715076000-1715090400@circlechristianschool.org
SUMMARY:Track and Field FHSAA Region 1A-2 Championship
DESCRIPTION:
URL:https://circlechristianschool.org/event/track-and-field-fhsaa-region-1a-2-championship/
LOCATION:Mount Dora Christian Academy – Bulldog Stadium\, 301 W. 13th Ave\, Mount Dora\, Florida\, 32757\, United States
CATEGORIES:Athletics
ATTACH;FMTTYPE=image/jpeg:https://circlechristianschool.org/wp-content/uploads/2024/02/track-and-field-varsity.jpg
GEO:28.807963;-81.6471663
X-APPLE-STRUCTURED-LOCATION;VALUE=URI;X-ADDRESS=Mount Dora Christian Academy – Bulldog Stadium 301 W. 13th Ave Mount Dora Florida 32757 United States;X-APPLE-RADIUS=500;X-TITLE=301 W. 13th Ave:geo:-81.6471663,28.807963
END:VEVENT
BEGIN:VEVENT
DTSTART;TZID=America/New_York:20240507T000000
DTEND;TZID=America/New_York:20240507T235959
DTSTAMP:20260423T044705
CREATED:20230924T161924Z
LAST-MODIFIED:20240401T144856Z
UID:10000755-1715040000-1715126399@circlechristianschool.org
SUMMARY:Spring NWEA Testing Days
DESCRIPTION:Testing Window Opens: 9:00 AM Test \n\n\n\nTesting Window Opens: 12:00 Noon Test
URL:https://circlechristianschool.org/event/spring-nwea-testing-days/2024-05-07/
LOCATION:FL
CATEGORIES:Guidance
ATTACH;FMTTYPE=image/png:https://circlechristianschool.org/wp-content/uploads/2023/09/0-3.png
END:VEVENT
BEGIN:VEVENT
DTSTART;TZID=America/New_York:20240506T000000
DTEND;TZID=America/New_York:20240506T235959
DTSTAMP:20260423T044705
CREATED:20230924T161924Z
LAST-MODIFIED:20240401T144856Z
UID:10000754-1714953600-1715039999@circlechristianschool.org
SUMMARY:Spring NWEA Testing Days
DESCRIPTION:Testing Window Opens: 9:00 AM Test \n\n\n\nTesting Window Opens: 12:00 Noon Test
URL:https://circlechristianschool.org/event/spring-nwea-testing-days/2024-05-06/
LOCATION:FL
CATEGORIES:Guidance
ATTACH;FMTTYPE=image/png:https://circlechristianschool.org/wp-content/uploads/2023/09/0-3.png
END:VEVENT
BEGIN:VEVENT
DTSTART;TZID=America/New_York:20240505T143000
DTEND;TZID=America/New_York:20240505T143000
DTSTAMP:20260423T044705
CREATED:20240402T133847Z
LAST-MODIFIED:20240402T133850Z
UID:10000767-1714919400-1714919400@circlechristianschool.org
SUMMARY:CTC’s production of Crazy For You
DESCRIPTION:Winter Springs Campus Main Stage
URL:https://circlechristianschool.org/event/ctcs-production-of-crazy-for-you-4/
LOCATION:FL
CATEGORIES:Theater
ATTACH;FMTTYPE=image/png:https://circlechristianschool.org/wp-content/uploads/2024/04/cfy_facebookheader_b_sticker.png
END:VEVENT
BEGIN:VEVENT
DTSTART;TZID=America/New_York:20240504T193000
DTEND;TZID=America/New_York:20240504T193000
DTSTAMP:20260423T044705
CREATED:20240402T133742Z
LAST-MODIFIED:20240402T133745Z
UID:10000766-1714851000-1714851000@circlechristianschool.org
SUMMARY:CTC’s production of Crazy For You
DESCRIPTION:Winter Springs Campus Main Stage
URL:https://circlechristianschool.org/event/ctcs-production-of-crazy-for-you-3/
LOCATION:FL
CATEGORIES:Theater
ATTACH;FMTTYPE=image/png:https://circlechristianschool.org/wp-content/uploads/2024/04/cfy_facebookheader_b_sticker.png
END:VEVENT
BEGIN:VEVENT
DTSTART;TZID=America/New_York:20240504T143000
DTEND;TZID=America/New_York:20240504T143000
DTSTAMP:20260423T044705
CREATED:20240402T133548Z
LAST-MODIFIED:20240402T133551Z
UID:10000765-1714833000-1714833000@circlechristianschool.org
SUMMARY:CTC’s production of Crazy For You
DESCRIPTION:Winter Springs Campus Main Stage
URL:https://circlechristianschool.org/event/ctcs-production-of-crazy-for-you-2/
LOCATION:Foundry Campus\, 1491 E SR 434\, Winter Springs\, FL\, 32708\, United States
CATEGORIES:Theater
ATTACH;FMTTYPE=image/png:https://circlechristianschool.org/wp-content/uploads/2024/04/cfy_facebookheader_b_sticker.png
GEO:28.6988853;-81.3081226
X-APPLE-STRUCTURED-LOCATION;VALUE=URI;X-ADDRESS=Foundry Campus 1491 E SR 434 Winter Springs FL 32708 United States;X-APPLE-RADIUS=500;X-TITLE=1491 E SR 434:geo:-81.3081226,28.6988853
END:VEVENT
BEGIN:VEVENT
DTSTART;TZID=America/New_York:20240504T100000
DTEND;TZID=America/New_York:20240504T100000
DTSTAMP:20260423T044705
CREATED:20230924T162126Z
LAST-MODIFIED:20240402T134602Z
UID:10000453-1714816800-1714816800@circlechristianschool.org
SUMMARY:Kindergarten Graduation
DESCRIPTION:Calvary Orlando Chapel
URL:https://circlechristianschool.org/event/kindergarten-graduation/
LOCATION:Calvary Orlando\, 1199 Clay St.\, Winter Park\, Florida\, 32789\, United States
CATEGORIES:Lower School
ATTACH;FMTTYPE=image/png:https://circlechristianschool.org/wp-content/uploads/2023/09/Kindergarten-Graduation-1.png
GEO:28.5875656;-81.3746553
X-APPLE-STRUCTURED-LOCATION;VALUE=URI;X-ADDRESS=Calvary Orlando 1199 Clay St. Winter Park Florida 32789 United States;X-APPLE-RADIUS=500;X-TITLE=1199 Clay St.:geo:-81.3746553,28.5875656
END:VEVENT
BEGIN:VEVENT
DTSTART;TZID=America/New_York:20240503T193000
DTEND;TZID=America/New_York:20240503T193000
DTSTAMP:20260423T044705
CREATED:20240402T133351Z
LAST-MODIFIED:20240402T133636Z
UID:10000764-1714764600-1714764600@circlechristianschool.org
SUMMARY:CTC’s production of Crazy For You
DESCRIPTION:Winter Springs Campus Main Stage
URL:https://circlechristianschool.org/event/ctcs-production-of-crazy-for-you/
LOCATION:Foundry Campus\, 1491 E SR 434\, Winter Springs\, FL\, 32708\, United States
CATEGORIES:Theater
ATTACH;FMTTYPE=image/png:https://circlechristianschool.org/wp-content/uploads/2024/04/cfy_facebookheader_b_sticker.png
GEO:28.6988853;-81.3081226
X-APPLE-STRUCTURED-LOCATION;VALUE=URI;X-ADDRESS=Foundry Campus 1491 E SR 434 Winter Springs FL 32708 United States;X-APPLE-RADIUS=500;X-TITLE=1491 E SR 434:geo:-81.3081226,28.6988853
END:VEVENT
BEGIN:VEVENT
DTSTART;TZID=America/New_York:20240503T100000
DTEND;TZID=America/New_York:20240503T110000
DTSTAMP:20260423T044705
CREATED:20240402T134752Z
LAST-MODIFIED:20240402T134755Z
UID:10000771-1714730400-1714734000@circlechristianschool.org
SUMMARY:Kindergarten Graduation Rehearsal
DESCRIPTION:
URL:https://circlechristianschool.org/event/kindergarten-graduation-rehearsal/
LOCATION:Calvary Orlando\, 1199 Clay St.\, Winter Park\, Florida\, 32789\, United States
CATEGORIES:Lower School
ATTACH;FMTTYPE=image/png:https://circlechristianschool.org/wp-content/uploads/2023/09/Screen-Shot-2023-09-13-at-1.38.00-PM.png
GEO:28.5875656;-81.3746553
X-APPLE-STRUCTURED-LOCATION;VALUE=URI;X-ADDRESS=Calvary Orlando 1199 Clay St. Winter Park Florida 32789 United States;X-APPLE-RADIUS=500;X-TITLE=1199 Clay St.:geo:-81.3746553,28.5875656
END:VEVENT
END:VCALENDAR