BEGIN:VCALENDAR
VERSION:2.0
PRODID:-//Circle Christian Schools - ECPv6.15.11//NONSGML v1.0//EN
CALSCALE:GREGORIAN
METHOD:PUBLISH
X-ORIGINAL-URL:https://circlechristianschool.org
X-WR-CALDESC:Events for Circle Christian Schools
REFRESH-INTERVAL;VALUE=DURATION:PT1H
X-Robots-Tag:noindex
X-PUBLISHED-TTL:PT1H
BEGIN:VTIMEZONE
TZID:America/New_York
BEGIN:DAYLIGHT
TZOFFSETFROM:-0500
TZOFFSETTO:-0400
TZNAME:EDT
DTSTART:20240310T070000
END:DAYLIGHT
BEGIN:STANDARD
TZOFFSETFROM:-0400
TZOFFSETTO:-0500
TZNAME:EST
DTSTART:20241103T060000
END:STANDARD
BEGIN:DAYLIGHT
TZOFFSETFROM:-0500
TZOFFSETTO:-0400
TZNAME:EDT
DTSTART:20250309T070000
END:DAYLIGHT
BEGIN:STANDARD
TZOFFSETFROM:-0400
TZOFFSETTO:-0500
TZNAME:EST
DTSTART:20251102T060000
END:STANDARD
BEGIN:DAYLIGHT
TZOFFSETFROM:-0500
TZOFFSETTO:-0400
TZNAME:EDT
DTSTART:20260308T070000
END:DAYLIGHT
BEGIN:STANDARD
TZOFFSETFROM:-0400
TZOFFSETTO:-0500
TZNAME:EST
DTSTART:20261101T060000
END:STANDARD
END:VTIMEZONE
BEGIN:VEVENT
DTSTART;TZID=America/New_York:20250106T000000
DTEND;TZID=America/New_York:20250106T235959
DTSTAMP:20260420T083758
CREATED:20241228T170753Z
LAST-MODIFIED:20241228T170902Z
UID:10001038-1736121600-1736207999@circlechristianschool.org
SUMMARY:Spring Athletic Season Begins Jan. 13th
DESCRIPTION:Spring Sports begin in January. This spring we will be offering\, Baseball\, Tennis\, and Track and Field.  If you are interested in any of these sports please register today at www.registermyathlete.com.  You will not be billed until the final rosters are completed.  We are looking forward to a great spring season.  Go\, Centurions
URL:https://circlechristianschool.org/event/spring-athletic-season-begins-2/
LOCATION:Florida
CATEGORIES:Athletics
ATTACH;FMTTYPE=image/png:https://circlechristianschool.org/wp-content/uploads/2024/02/Centurion_sports_logo.png
END:VEVENT
BEGIN:VEVENT
DTSTART;TZID=America/New_York:20250106T190000
DTEND;TZID=America/New_York:20250106T213000
DTSTAMP:20260420T083758
CREATED:20241228T161959Z
LAST-MODIFIED:20241228T162003Z
UID:10001025-1736190000-1736199000@circlechristianschool.org
SUMMARY:Home Basketball Varsity vs. Family Christian Academy
DESCRIPTION:
URL:https://circlechristianschool.org/event/home-basketball-varsity-vs-family-christian-academy/
LOCATION:Willow Creek Presbyterian Church\, 4725 E Lake Dr\, Winter Springs\, Florida\, 32708\, United States
CATEGORIES:Athletics
ATTACH;FMTTYPE=image/webp:https://circlechristianschool.org/wp-content/uploads/2023/10/basketball-scoring-points-action-photo-going-basket-live-game-37043542.webp
GEO:28.6617549;-81.2840999
X-APPLE-STRUCTURED-LOCATION;VALUE=URI;X-ADDRESS=Willow Creek Presbyterian Church 4725 E Lake Dr Winter Springs Florida 32708 United States;X-APPLE-RADIUS=500;X-TITLE=4725 E Lake Dr:geo:-81.2840999,28.6617549
END:VEVENT
BEGIN:VEVENT
DTSTART;TZID=America/New_York:20250107T160000
DTEND;TZID=America/New_York:20250107T180000
DTSTAMP:20260420T083758
CREATED:20241220T211055Z
LAST-MODIFIED:20241220T211100Z
UID:10001014-1736265600-1736272800@circlechristianschool.org
SUMMARY:Soccer Girls vs @ Real Life
DESCRIPTION:Girls play at 4:00
URL:https://circlechristianschool.org/event/soccer-girls-vs-real-life/
LOCATION:Real Life\, 1501 Steve's Rd\, Clermont\, Florida\, 34711\, United States
CATEGORIES:Athletics
ATTACH;FMTTYPE=image/jpeg:https://circlechristianschool.org/wp-content/uploads/2023/10/soccer-ball.jpeg
GEO:28.5344621;-81.7295347
X-APPLE-STRUCTURED-LOCATION;VALUE=URI;X-ADDRESS=Real Life 1501 Steve's Rd Clermont Florida 34711 United States;X-APPLE-RADIUS=500;X-TITLE=1501 Steve's Rd:geo:-81.7295347,28.5344621
END:VEVENT
BEGIN:VEVENT
DTSTART;TZID=America/New_York:20250107T173000
DTEND;TZID=America/New_York:20250107T210000
DTSTAMP:20260420T083758
CREATED:20241228T162920Z
LAST-MODIFIED:20241228T163925Z
UID:10001027-1736271000-1736283600@circlechristianschool.org
SUMMARY:Basketball JV/VAR @ Lyman High School
DESCRIPTION:5:30 p.m. 7:00 p.m. accordingly
URL:https://circlechristianschool.org/event/basketball-jv-var-vs-lyman-high-school/
LOCATION:Lyman High School\, 865 S Ronald Reagan\, Longwood\, Florida\, 32750\, United States
CATEGORIES:Athletics
ATTACH;FMTTYPE=image/webp:https://circlechristianschool.org/wp-content/uploads/2023/10/basketball-scoring-points-action-photo-going-basket-live-game-37043542.webp
GEO:28.6863885;-81.3448686
X-APPLE-STRUCTURED-LOCATION;VALUE=URI;X-ADDRESS=Lyman High School 865 S Ronald Reagan Longwood Florida 32750 United States;X-APPLE-RADIUS=500;X-TITLE=865 S Ronald Reagan:geo:-81.3448686,28.6863885
END:VEVENT
BEGIN:VEVENT
DTSTART;TZID=America/New_York:20250109T170000
DTEND;TZID=America/New_York:20250109T210000
DTSTAMP:20260420T083758
CREATED:20241220T210518Z
LAST-MODIFIED:20241220T210522Z
UID:10001013-1736442000-1736456400@circlechristianschool.org
SUMMARY:Soccer Boys And Girls vs @ The Geneva School
DESCRIPTION:Girls play at 5:00 and Boys play at 7:00
URL:https://circlechristianschool.org/event/soccer-boys-and-girls-vs-the-geneva-school/
LOCATION:The Geneva School\, 1775 Seminola Blvd\, Casselberry\, Florida\, 32707\, United States
CATEGORIES:Athletics
ATTACH;FMTTYPE=image/jpeg:https://circlechristianschool.org/wp-content/uploads/2023/10/soccer-ball.jpeg
GEO:28.6123356;-81.3108006
X-APPLE-STRUCTURED-LOCATION;VALUE=URI;X-ADDRESS=The Geneva School 1775 Seminola Blvd Casselberry Florida 32707 United States;X-APPLE-RADIUS=500;X-TITLE=1775 Seminola Blvd:geo:-81.3108006,28.6123356
END:VEVENT
BEGIN:VEVENT
DTSTART;TZID=America/New_York:20250109T173000
DTEND;TZID=America/New_York:20250109T210000
DTSTAMP:20260420T083758
CREATED:20241220T220333Z
LAST-MODIFIED:20241220T220336Z
UID:10001023-1736443800-1736456400@circlechristianschool.org
SUMMARY:Home Game Basketball JV & V vs Faith Christian
DESCRIPTION:Light Concessions will be available \n\n\n\n JV – 6:30\, Varsity – 7:00pm
URL:https://circlechristianschool.org/event/home-game-basketball-jv-v-vs-faith-christian/
LOCATION:Willow Creek Presbyterian Church\, 4725 E Lake Dr\, Winter Springs\, Florida\, 32708\, United States
CATEGORIES:Athletics
ATTACH;FMTTYPE=image/webp:https://circlechristianschool.org/wp-content/uploads/2023/10/basketball-scoring-points-action-photo-going-basket-live-game-37043542.webp
GEO:28.6617549;-81.2840999
X-APPLE-STRUCTURED-LOCATION;VALUE=URI;X-ADDRESS=Willow Creek Presbyterian Church 4725 E Lake Dr Winter Springs Florida 32708 United States;X-APPLE-RADIUS=500;X-TITLE=4725 E Lake Dr:geo:-81.2840999,28.6617549
END:VEVENT
BEGIN:VEVENT
DTSTART;TZID=America/New_York:20250110T173000
DTEND;TZID=America/New_York:20250110T210000
DTSTAMP:20260420T083758
CREATED:20241228T163332Z
LAST-MODIFIED:20241228T164128Z
UID:10001028-1736530200-1736542800@circlechristianschool.org
SUMMARY:Home Game Basketball JV & V vs Lake Mary Prep
DESCRIPTION:Light Concessions will be available \n\n\n\nJV – 5:30\, Varsity – 7:00pm
URL:https://circlechristianschool.org/event/home-game-basketball-jv-v-vs-lake-mary-prep/
LOCATION:Willow Creek Presbyterian Church\, 4725 E Lake Dr\, Winter Springs\, Florida\, 32708\, United States
CATEGORIES:Athletics
ATTACH;FMTTYPE=image/webp:https://circlechristianschool.org/wp-content/uploads/2023/10/basketball-scoring-points-action-photo-going-basket-live-game-37043542.webp
GEO:28.6617549;-81.2840999
X-APPLE-STRUCTURED-LOCATION;VALUE=URI;X-ADDRESS=Willow Creek Presbyterian Church 4725 E Lake Dr Winter Springs Florida 32708 United States;X-APPLE-RADIUS=500;X-TITLE=4725 E Lake Dr:geo:-81.2840999,28.6617549
END:VEVENT
BEGIN:VEVENT
DTSTART;TZID=America/New_York:20250113T170000
DTEND;TZID=America/New_York:20250113T180000
DTSTAMP:20260420T083758
CREATED:20241220T212600Z
LAST-MODIFIED:20241220T212604Z
UID:10001015-1736787600-1736791200@circlechristianschool.org
SUMMARY:Soccer Girls @ Lake Mary Prep
DESCRIPTION:Girls play at 5:00
URL:https://circlechristianschool.org/event/soccer-girls-lake-mary-prep/
LOCATION:Lake Mary Preparatory School\, 650 Rantoul Ln\, Lake Mary\, Florida\, 32746\, United States
CATEGORIES:Athletics
ATTACH;FMTTYPE=image/jpeg:https://circlechristianschool.org/wp-content/uploads/2023/10/soccer-ball.jpeg
GEO:28.7775996;-81.3236102
X-APPLE-STRUCTURED-LOCATION;VALUE=URI;X-ADDRESS=Lake Mary Preparatory School 650 Rantoul Ln Lake Mary Florida 32746 United States;X-APPLE-RADIUS=500;X-TITLE=650 Rantoul Ln:geo:-81.3236102,28.7775996
END:VEVENT
BEGIN:VEVENT
DTSTART;TZID=America/New_York:20250114T173000
DTEND;TZID=America/New_York:20250114T210000
DTSTAMP:20260420T083758
CREATED:20241228T163534Z
LAST-MODIFIED:20241228T163537Z
UID:10001029-1736875800-1736888400@circlechristianschool.org
SUMMARY:Home Game Basketball JV & V vs One School of Arts
DESCRIPTION:Light Concessions will be available \n\n\n\nJV – 5:30\, Varsity – 7:00pm
URL:https://circlechristianschool.org/event/home-game-basketball-jv-v-vs-one-school-of-arts/
LOCATION:Willow Creek Presbyterian Church\, 4725 E Lake Dr\, Winter Springs\, Florida\, 32708\, United States
CATEGORIES:Athletics
ATTACH;FMTTYPE=image/webp:https://circlechristianschool.org/wp-content/uploads/2023/10/basketball-scoring-points-action-photo-going-basket-live-game-37043542.webp
GEO:28.6617549;-81.2840999
X-APPLE-STRUCTURED-LOCATION;VALUE=URI;X-ADDRESS=Willow Creek Presbyterian Church 4725 E Lake Dr Winter Springs Florida 32708 United States;X-APPLE-RADIUS=500;X-TITLE=4725 E Lake Dr:geo:-81.2840999,28.6617549
END:VEVENT
BEGIN:VEVENT
DTSTART;TZID=America/New_York:20250114T180000
DTEND;TZID=America/New_York:20250114T180000
DTSTAMP:20260420T083758
CREATED:20241220T212806Z
LAST-MODIFIED:20241220T212811Z
UID:10001016-1736877600-1736877600@circlechristianschool.org
SUMMARY:Soccer Boys @ Faith Christian Academy
DESCRIPTION:Boys play at 6:00 pm
URL:https://circlechristianschool.org/event/soccer-boys-faith-christian-academy/
LOCATION:Faith Christian Academy\, 9307 Curry Ford Rd\, Orlando\, Florida\, 32825\, United States
CATEGORIES:Athletics
ATTACH;FMTTYPE=image/jpeg:https://circlechristianschool.org/wp-content/uploads/2023/10/soccer-ball.jpeg
GEO:28.5123809;-81.2548087
X-APPLE-STRUCTURED-LOCATION;VALUE=URI;X-ADDRESS=Faith Christian Academy 9307 Curry Ford Rd Orlando Florida 32825 United States;X-APPLE-RADIUS=500;X-TITLE=9307 Curry Ford Rd:geo:-81.2548087,28.5123809
END:VEVENT
BEGIN:VEVENT
DTSTART;TZID=America/New_York:20250116T180000
DTEND;TZID=America/New_York:20250116T200000
DTSTAMP:20260420T083758
CREATED:20241220T213118Z
LAST-MODIFIED:20241220T213121Z
UID:10001017-1737050400-1737057600@circlechristianschool.org
SUMMARY:Soccer Girls @ Pine Ridge High School
DESCRIPTION:Girls play at 6:00
URL:https://circlechristianschool.org/event/soccer-girls-pine-ridge-high-school/
LOCATION:Pine Ridge High School\, 926 Howland Blvd\, Deltona\, Florida\, 32738\, United States
CATEGORIES:Athletics
ATTACH;FMTTYPE=image/jpeg:https://circlechristianschool.org/wp-content/uploads/2023/10/soccer-ball.jpeg
GEO:28.8861288;-81.1605157
X-APPLE-STRUCTURED-LOCATION;VALUE=URI;X-ADDRESS=Pine Ridge High School 926 Howland Blvd Deltona Florida 32738 United States;X-APPLE-RADIUS=500;X-TITLE=926 Howland Blvd:geo:-81.1605157,28.8861288
END:VEVENT
BEGIN:VEVENT
DTSTART;TZID=America/New_York:20250117T160000
DTEND;TZID=America/New_York:20250117T210000
DTSTAMP:20260420T083758
CREATED:20241220T213548Z
LAST-MODIFIED:20241220T213552Z
UID:10001018-1737129600-1737147600@circlechristianschool.org
SUMMARY:Soccer Boys And Girls vs ICS
DESCRIPTION:Girls play at 4:00 and Boys play at 6:00
URL:https://circlechristianschool.org/event/soccer-boys-and-girls-vs-ics/
LOCATION:Field of Fame\, Appy Ln\, Apopka\, Florida\, United States
CATEGORIES:Athletics
ATTACH;FMTTYPE=image/jpeg:https://circlechristianschool.org/wp-content/uploads/2023/10/soccer-ball.jpeg
GEO:28.7427171;-81.5509728
X-APPLE-STRUCTURED-LOCATION;VALUE=URI;X-ADDRESS=Field of Fame Appy Ln Apopka Florida United States;X-APPLE-RADIUS=500;X-TITLE=Appy Ln:geo:-81.5509728,28.7427171
END:VEVENT
BEGIN:VEVENT
DTSTART;TZID=America/New_York:20250117T173000
DTEND;TZID=America/New_York:20250117T210000
DTSTAMP:20260420T083758
CREATED:20241228T163829Z
LAST-MODIFIED:20241228T163832Z
UID:10001030-1737135000-1737147600@circlechristianschool.org
SUMMARY:Home Game Basketball JV & V vs Orangewood
DESCRIPTION:Light Concessions will be available \n\n\n\nJV – 5:30\, Varsity – 7:00pm
URL:https://circlechristianschool.org/event/home-game-basketball-jv-v-vs-orangewood/
LOCATION:Willow Creek Presbyterian Church\, 4725 E Lake Dr\, Winter Springs\, Florida\, 32708\, United States
CATEGORIES:Athletics
ATTACH;FMTTYPE=image/webp:https://circlechristianschool.org/wp-content/uploads/2023/10/basketball-scoring-points-action-photo-going-basket-live-game-37043542.webp
GEO:28.6617549;-81.2840999
X-APPLE-STRUCTURED-LOCATION;VALUE=URI;X-ADDRESS=Willow Creek Presbyterian Church 4725 E Lake Dr Winter Springs Florida 32708 United States;X-APPLE-RADIUS=500;X-TITLE=4725 E Lake Dr:geo:-81.2840999,28.6617549
END:VEVENT
BEGIN:VEVENT
DTSTART;TZID=America/New_York:20250118T170000
DTEND;TZID=America/New_York:20250118T210000
DTSTAMP:20260420T083758
CREATED:20241228T164538Z
LAST-MODIFIED:20241228T164541Z
UID:10001031-1737219600-1737234000@circlechristianschool.org
SUMMARY:Basketball JV/VAR @ Mount Dora
DESCRIPTION:5:00 p.m. 7:00 p.m. accordingly
URL:https://circlechristianschool.org/event/basketball-jv-var-mount-dora/
LOCATION:Mount Dora Christian Academy – Bulldog Stadium\, 301 W. 13th Ave\, Mount Dora\, Florida\, 32757\, United States
CATEGORIES:Athletics
ATTACH;FMTTYPE=image/webp:https://circlechristianschool.org/wp-content/uploads/2023/10/basketball-scoring-points-action-photo-going-basket-live-game-37043542.webp
GEO:28.807963;-81.6471663
X-APPLE-STRUCTURED-LOCATION;VALUE=URI;X-ADDRESS=Mount Dora Christian Academy – Bulldog Stadium 301 W. 13th Ave Mount Dora Florida 32757 United States;X-APPLE-RADIUS=500;X-TITLE=301 W. 13th Ave:geo:-81.6471663,28.807963
END:VEVENT
BEGIN:VEVENT
DTSTART;TZID=America/New_York:20250122T000000
DTEND;TZID=America/New_York:20250122T235959
DTSTAMP:20260420T083758
CREATED:20241220T213834Z
LAST-MODIFIED:20241220T214245Z
UID:10001019-1737504000-1737590399@circlechristianschool.org
SUMMARY:Soccer Boys District Quarter-Final
DESCRIPTION:Time: TBD
URL:https://circlechristianschool.org/event/soccer-girls-quarter-finals/
LOCATION:Lake Mary Preparatory School\, 650 Rantoul Ln\, Lake Mary\, Florida\, 32746\, United States
CATEGORIES:Athletics
ATTACH;FMTTYPE=image/jpeg:https://circlechristianschool.org/wp-content/uploads/2023/10/soccer-ball.jpeg
GEO:28.7775996;-81.3236102
X-APPLE-STRUCTURED-LOCATION;VALUE=URI;X-ADDRESS=Lake Mary Preparatory School 650 Rantoul Ln Lake Mary Florida 32746 United States;X-APPLE-RADIUS=500;X-TITLE=650 Rantoul Ln:geo:-81.3236102,28.7775996
END:VEVENT
BEGIN:VEVENT
DTSTART;TZID=America/New_York:20250123T000000
DTEND;TZID=America/New_York:20250123T235959
DTSTAMP:20260420T083758
CREATED:20241220T214629Z
LAST-MODIFIED:20241220T214633Z
UID:10001022-1737590400-1737676799@circlechristianschool.org
SUMMARY:Soccer Girls District Semi-Final
DESCRIPTION:Time: TBD
URL:https://circlechristianschool.org/event/soccer-girls-district-semi-final/
LOCATION:The Geneva School\, 1775 Seminola Blvd\, Casselberry\, Florida\, 32707\, United States
CATEGORIES:Athletics
ATTACH;FMTTYPE=image/jpeg:https://circlechristianschool.org/wp-content/uploads/2023/10/soccer-ball.jpeg
GEO:28.6123356;-81.3108006
X-APPLE-STRUCTURED-LOCATION;VALUE=URI;X-ADDRESS=The Geneva School 1775 Seminola Blvd Casselberry Florida 32707 United States;X-APPLE-RADIUS=500;X-TITLE=1775 Seminola Blvd:geo:-81.3108006,28.6123356
END:VEVENT
BEGIN:VEVENT
DTSTART;TZID=America/New_York:20250124T000000
DTEND;TZID=America/New_York:20250124T235959
DTSTAMP:20260420T083758
CREATED:20241220T214350Z
LAST-MODIFIED:20241220T214354Z
UID:10001020-1737676800-1737763199@circlechristianschool.org
SUMMARY:Soccer Boys District Semi-Final
DESCRIPTION:Time: TBD
URL:https://circlechristianschool.org/event/soccer-boys-district-semi-final/
LOCATION:Lake Mary Preparatory School\, 650 Rantoul Ln\, Lake Mary\, Florida\, 32746\, United States
CATEGORIES:Athletics
ATTACH;FMTTYPE=image/jpeg:https://circlechristianschool.org/wp-content/uploads/2023/10/soccer-ball.jpeg
GEO:28.7775996;-81.3236102
X-APPLE-STRUCTURED-LOCATION;VALUE=URI;X-ADDRESS=Lake Mary Preparatory School 650 Rantoul Ln Lake Mary Florida 32746 United States;X-APPLE-RADIUS=500;X-TITLE=650 Rantoul Ln:geo:-81.3236102,28.7775996
END:VEVENT
BEGIN:VEVENT
DTSTART;TZID=America/New_York:20250124T180000
DTEND;TZID=America/New_York:20250124T210000
DTSTAMP:20260420T083758
CREATED:20241228T164956Z
LAST-MODIFIED:20241228T164959Z
UID:10001033-1737741600-1737752400@circlechristianschool.org
SUMMARY:Basketball JV/VAR @ Freedom High School
DESCRIPTION:JV – 6:00 pm\, Varsity – 7:30 pm
URL:https://circlechristianschool.org/event/basketball-jv-var-freedom-high-school/
LOCATION:Freedom High School\, 2500 W. Taft Vineland Rd.\, Orlando\, Florida\, United States
CATEGORIES:Athletics
ATTACH;FMTTYPE=image/webp:https://circlechristianschool.org/wp-content/uploads/2023/10/basketball-scoring-points-action-photo-going-basket-live-game-37043542.webp
GEO:28.4159401;-81.4092461
X-APPLE-STRUCTURED-LOCATION;VALUE=URI;X-ADDRESS=Freedom High School 2500 W. Taft Vineland Rd. Orlando Florida United States;X-APPLE-RADIUS=500;X-TITLE=2500 W. Taft Vineland Rd.:geo:-81.4092461,28.4159401
END:VEVENT
BEGIN:VEVENT
DTSTART;TZID=America/New_York:20250125T120000
DTEND;TZID=America/New_York:20250125T140000
DTSTAMP:20260420T083758
CREATED:20241228T165457Z
LAST-MODIFIED:20241228T165515Z
UID:10001034-1737806400-1737813600@circlechristianschool.org
SUMMARY:Varsity Basketball game Circle vs. ICS at the Kia Center
DESCRIPTION:
URL:https://circlechristianschool.org/event/varsity-basketball-game-circle-vs-ics-at-the-kia-center/
LOCATION:KIA Center\, 400 W Church St\, Orlando\, Florida\, 32801\, United States
CATEGORIES:Athletics
ATTACH;FMTTYPE=image/webp:https://circlechristianschool.org/wp-content/uploads/2023/10/basketball-scoring-points-action-photo-going-basket-live-game-37043542.webp
GEO:28.5392528;-81.3839602
X-APPLE-STRUCTURED-LOCATION;VALUE=URI;X-ADDRESS=KIA Center 400 W Church St Orlando Florida 32801 United States;X-APPLE-RADIUS=500;X-TITLE=400 W Church St:geo:-81.3839602,28.5392528
END:VEVENT
BEGIN:VEVENT
DTSTART;TZID=America/New_York:20250127T170000
DTEND;TZID=America/New_York:20250127T190000
DTSTAMP:20260420T083758
CREATED:20250127T050134Z
LAST-MODIFIED:20250127T050136Z
UID:10001094-1737997200-1738004400@circlechristianschool.org
SUMMARY:Soccer Boys vs. Geneva
DESCRIPTION:Time: 5pm
URL:https://circlechristianschool.org/event/soccer-boys-vs-geneva/
LOCATION:Lake Mary Preparatory School\, 650 Rantoul Ln\, Lake Mary\, Florida\, 32746\, United States
CATEGORIES:Athletics
ATTACH;FMTTYPE=image/jpeg:https://circlechristianschool.org/wp-content/uploads/2023/10/soccer-ball.jpeg
GEO:28.7775996;-81.3236102
X-APPLE-STRUCTURED-LOCATION;VALUE=URI;X-ADDRESS=Lake Mary Preparatory School 650 Rantoul Ln Lake Mary Florida 32746 United States;X-APPLE-RADIUS=500;X-TITLE=650 Rantoul Ln:geo:-81.3236102,28.7775996
END:VEVENT
BEGIN:VEVENT
DTSTART;TZID=America/New_York:20250127T173000
DTEND;TZID=America/New_York:20250127T210000
DTSTAMP:20260420T083758
CREATED:20241228T165835Z
LAST-MODIFIED:20241228T165838Z
UID:10001035-1737999000-1738011600@circlechristianschool.org
SUMMARY:Basketball JV/VAR @ Lake Mary Prep
DESCRIPTION:JV – 5:30 pm\, Varsity – 7:00 pm
URL:https://circlechristianschool.org/event/basketball-jv-var-lake-mary-prep/
LOCATION:Lake Mary Preparatory School\, 650 Rantoul Ln\, Lake Mary\, Florida\, 32746\, United States
CATEGORIES:Athletics
ATTACH;FMTTYPE=image/webp:https://circlechristianschool.org/wp-content/uploads/2023/10/basketball-scoring-points-action-photo-going-basket-live-game-37043542.webp
GEO:28.7775996;-81.3236102
X-APPLE-STRUCTURED-LOCATION;VALUE=URI;X-ADDRESS=Lake Mary Preparatory School 650 Rantoul Ln Lake Mary Florida 32746 United States;X-APPLE-RADIUS=500;X-TITLE=650 Rantoul Ln:geo:-81.3236102,28.7775996
END:VEVENT
BEGIN:VEVENT
DTSTART;TZID=America/New_York:20250128T173000
DTEND;TZID=America/New_York:20250128T210000
DTSTAMP:20260420T083758
CREATED:20241228T165937Z
LAST-MODIFIED:20241228T165941Z
UID:10001036-1738085400-1738098000@circlechristianschool.org
SUMMARY:Home Game Basketball JV & V vs Father Lopez
DESCRIPTION:Light Concessions will be available \n\n\n\nJV – 5:30\, Varsity – 7:00pm
URL:https://circlechristianschool.org/event/home-game-basketball-jv-v-vs-father-lopez/
LOCATION:Willow Creek Presbyterian Church\, 4725 E Lake Dr\, Winter Springs\, Florida\, 32708\, United States
CATEGORIES:Athletics
ATTACH;FMTTYPE=image/webp:https://circlechristianschool.org/wp-content/uploads/2023/10/basketball-scoring-points-action-photo-going-basket-live-game-37043542.webp
GEO:28.6617549;-81.2840999
X-APPLE-STRUCTURED-LOCATION;VALUE=URI;X-ADDRESS=Willow Creek Presbyterian Church 4725 E Lake Dr Winter Springs Florida 32708 United States;X-APPLE-RADIUS=500;X-TITLE=4725 E Lake Dr:geo:-81.2840999,28.6617549
END:VEVENT
BEGIN:VEVENT
DTSTART;TZID=America/New_York:20250128T180000
DTEND;TZID=America/New_York:20250128T200000
DTSTAMP:20260420T083758
CREATED:20250127T045843Z
LAST-MODIFIED:20250127T045902Z
UID:10001093-1738087200-1738094400@circlechristianschool.org
SUMMARY:Soccer Girls District Final
DESCRIPTION:Time: 6pm
URL:https://circlechristianschool.org/event/soccer-girls-district-final/
LOCATION:The Geneva School\, 1775 Seminola Blvd\, Casselberry\, Florida\, 32707\, United States
CATEGORIES:Athletics
ATTACH;FMTTYPE=image/jpeg:https://circlechristianschool.org/wp-content/uploads/2023/10/soccer-ball.jpeg
GEO:28.6123356;-81.3108006
X-APPLE-STRUCTURED-LOCATION;VALUE=URI;X-ADDRESS=The Geneva School 1775 Seminola Blvd Casselberry Florida 32707 United States;X-APPLE-RADIUS=500;X-TITLE=1775 Seminola Blvd:geo:-81.3108006,28.6123356
END:VEVENT
BEGIN:VEVENT
DTSTART;TZID=America/New_York:20250129T180000
DTEND;TZID=America/New_York:20250129T235959
DTSTAMP:20260420T083758
CREATED:20241220T214500Z
LAST-MODIFIED:20241220T214504Z
UID:10001021-1738173600-1738195199@circlechristianschool.org
SUMMARY:Soccer Boys District Final
DESCRIPTION:Time: TBD
URL:https://circlechristianschool.org/event/soccer-boys-district-final/
LOCATION:Lake Mary Preparatory School\, 650 Rantoul Ln\, Lake Mary\, Florida\, 32746\, United States
CATEGORIES:Athletics
ATTACH;FMTTYPE=image/jpeg:https://circlechristianschool.org/wp-content/uploads/2023/10/soccer-ball.jpeg
GEO:28.7775996;-81.3236102
X-APPLE-STRUCTURED-LOCATION;VALUE=URI;X-ADDRESS=Lake Mary Preparatory School 650 Rantoul Ln Lake Mary Florida 32746 United States;X-APPLE-RADIUS=500;X-TITLE=650 Rantoul Ln:geo:-81.3236102,28.7775996
END:VEVENT
BEGIN:VEVENT
DTSTART;TZID=America/New_York:20250131T173000
DTEND;TZID=America/New_York:20250131T210000
DTSTAMP:20260420T083758
CREATED:20241228T170111Z
LAST-MODIFIED:20241228T170115Z
UID:10001037-1738344600-1738357200@circlechristianschool.org
SUMMARY:Homecoming Basketball Game
DESCRIPTION:Light Concessions will be available \n\n\n\nJV – 5:30\, Varsity – 7:00pm
URL:https://circlechristianschool.org/event/homecoming-basketball-game/
LOCATION:Willow Creek Presbyterian Church\, 4725 E Lake Dr\, Winter Springs\, Florida\, 32708\, United States
CATEGORIES:Athletics
ATTACH;FMTTYPE=image/webp:https://circlechristianschool.org/wp-content/uploads/2023/10/basketball-scoring-points-action-photo-going-basket-live-game-37043542.webp
GEO:28.6617549;-81.2840999
X-APPLE-STRUCTURED-LOCATION;VALUE=URI;X-ADDRESS=Willow Creek Presbyterian Church 4725 E Lake Dr Winter Springs Florida 32708 United States;X-APPLE-RADIUS=500;X-TITLE=4725 E Lake Dr:geo:-81.2840999,28.6617549
END:VEVENT
BEGIN:VEVENT
DTSTART;TZID=America/New_York:20250210T161000
DTEND;TZID=America/New_York:20250210T181000
DTSTAMP:20260420T083758
CREATED:20250122T232047Z
LAST-MODIFIED:20250122T232050Z
UID:10001083-1739203800-1739211000@circlechristianschool.org
SUMMARY:AWAY Varsity Baseball @ Geneva
DESCRIPTION:
URL:https://circlechristianschool.org/event/away-varsity-baseball-geneva/
LOCATION:The Geneva School\, 1775 Seminola Blvd\, Casselberry\, Florida\, 32707\, United States
CATEGORIES:Athletics
ATTACH;FMTTYPE=image/jpeg:https://circlechristianschool.org/wp-content/uploads/2024/02/baseball-field-and-ball.jpg
GEO:28.6123356;-81.3108006
X-APPLE-STRUCTURED-LOCATION;VALUE=URI;X-ADDRESS=The Geneva School 1775 Seminola Blvd Casselberry Florida 32707 United States;X-APPLE-RADIUS=500;X-TITLE=1775 Seminola Blvd:geo:-81.3108006,28.6123356
END:VEVENT
BEGIN:VEVENT
DTSTART;TZID=America/New_York:20250213T160000
DTEND;TZID=America/New_York:20250213T173000
DTSTAMP:20260420T083758
CREATED:20250122T224748Z
LAST-MODIFIED:20250122T224752Z
UID:10001063-1739462400-1739467800@circlechristianschool.org
SUMMARY:Middle School Baseball @ Windermere Prep
DESCRIPTION:
URL:https://circlechristianschool.org/event/middle-school-baseball-windermere-prep/
LOCATION:Windermere Preperatory School\, 6189 Winter-Garden Vineland Road\, Windermere\, Florida\, 34786\, United States
CATEGORIES:Athletics
ATTACH;FMTTYPE=image/jpeg:https://circlechristianschool.org/wp-content/uploads/2024/02/IMG_5355-scaled.jpg
GEO:28.4780923;-81.5696684
X-APPLE-STRUCTURED-LOCATION;VALUE=URI;X-ADDRESS=Windermere Preperatory School 6189 Winter-Garden Vineland Road Windermere Florida 34786 United States;X-APPLE-RADIUS=500;X-TITLE=6189 Winter-Garden Vineland Road:geo:-81.5696684,28.4780923
END:VEVENT
BEGIN:VEVENT
DTSTART;TZID=America/New_York:20250213T160000
DTEND;TZID=America/New_York:20250213T180000
DTSTAMP:20260420T083758
CREATED:20241230T172502Z
LAST-MODIFIED:20250213T001444Z
UID:10001039-1739462400-1739469600@circlechristianschool.org
SUMMARY:Central Florida Middle School League Track and Field Meet #1
DESCRIPTION:Admission to the meet is $5.00/adult (18+).  CARD ONLY \n\n\n\nConcessions will be available (Burgers\, Chips\, Candy\, Drinks) CARDS ONLY Please <Snack Bar Menu Link>
URL:https://circlechristianschool.org/event/central-florida-middle-school-league-track-and-field-meet-1-2/
LOCATION:The Geneva School\, 1775 Seminola Blvd\, Casselberry\, Florida\, 32707\, United States
CATEGORIES:Athletics
ATTACH;FMTTYPE=image/jpeg:https://circlechristianschool.org/wp-content/uploads/2024/02/track-and-field-lanes-.jpg
GEO:28.6123356;-81.3108006
X-APPLE-STRUCTURED-LOCATION;VALUE=URI;X-ADDRESS=The Geneva School 1775 Seminola Blvd Casselberry Florida 32707 United States;X-APPLE-RADIUS=500;X-TITLE=1775 Seminola Blvd:geo:-81.3108006,28.6123356
END:VEVENT
BEGIN:VEVENT
DTSTART;TZID=America/New_York:20250213T160000
DTEND;TZID=America/New_York:20250213T190000
DTSTAMP:20260420T083758
CREATED:20250213T004330Z
LAST-MODIFIED:20250213T004332Z
UID:10001108-1739462400-1739473200@circlechristianschool.org
SUMMARY:Tennis Match Circle v Mt. Dora High School
DESCRIPTION:
URL:https://circlechristianschool.org/event/tennis-match-circle-v-mt-dora-high-school/
LOCATION:Sanlando Park\, 401 W Highland St\, Altamonte Springs\, Florida\, 32714\, United States
CATEGORIES:Athletics
ATTACH;FMTTYPE=image/jpeg:https://circlechristianschool.org/wp-content/uploads/2024/02/tennis-racket-w-ball.jpeg
GEO:28.6768535;-81.3972667
X-APPLE-STRUCTURED-LOCATION;VALUE=URI;X-ADDRESS=Sanlando Park 401 W Highland St Altamonte Springs Florida 32714 United States;X-APPLE-RADIUS=500;X-TITLE=401 W Highland St:geo:-81.3972667,28.6768535
END:VEVENT
BEGIN:VEVENT
DTSTART;TZID=America/New_York:20250213T183000
DTEND;TZID=America/New_York:20250213T203000
DTSTAMP:20260420T083758
CREATED:20250122T232315Z
LAST-MODIFIED:20250122T232319Z
UID:10001084-1739471400-1739478600@circlechristianschool.org
SUMMARY:AWAY Varsity Baseball @ Wekiva
DESCRIPTION:
URL:https://circlechristianschool.org/event/away-varsity-baseball-wekiva/
LOCATION:Florida
CATEGORIES:Athletics
ATTACH;FMTTYPE=image/jpeg:https://circlechristianschool.org/wp-content/uploads/2024/02/baseball-field-and-ball.jpg
END:VEVENT
END:VCALENDAR