BEGIN:VCALENDAR
VERSION:2.0
PRODID:-//Circle Christian Schools - ECPv6.15.11//NONSGML v1.0//EN
CALSCALE:GREGORIAN
METHOD:PUBLISH
X-ORIGINAL-URL:https://circlechristianschool.org
X-WR-CALDESC:Events for Circle Christian Schools
REFRESH-INTERVAL;VALUE=DURATION:PT1H
X-Robots-Tag:noindex
X-PUBLISHED-TTL:PT1H
BEGIN:VTIMEZONE
TZID:America/New_York
BEGIN:DAYLIGHT
TZOFFSETFROM:-0500
TZOFFSETTO:-0400
TZNAME:EDT
DTSTART:20240310T070000
END:DAYLIGHT
BEGIN:STANDARD
TZOFFSETFROM:-0400
TZOFFSETTO:-0500
TZNAME:EST
DTSTART:20241103T060000
END:STANDARD
BEGIN:DAYLIGHT
TZOFFSETFROM:-0500
TZOFFSETTO:-0400
TZNAME:EDT
DTSTART:20250309T070000
END:DAYLIGHT
BEGIN:STANDARD
TZOFFSETFROM:-0400
TZOFFSETTO:-0500
TZNAME:EST
DTSTART:20251102T060000
END:STANDARD
BEGIN:DAYLIGHT
TZOFFSETFROM:-0500
TZOFFSETTO:-0400
TZNAME:EDT
DTSTART:20260308T070000
END:DAYLIGHT
BEGIN:STANDARD
TZOFFSETFROM:-0400
TZOFFSETTO:-0500
TZNAME:EST
DTSTART:20261101T060000
END:STANDARD
END:VTIMEZONE
BEGIN:VEVENT
DTSTART;TZID=America/New_York:20250224T160000
DTEND;TZID=America/New_York:20250224T170000
DTSTAMP:20260421T082727
CREATED:20250122T230428Z
LAST-MODIFIED:20250218T221546Z
UID:10001072-1740412800-1740416400@circlechristianschool.org
SUMMARY:HOME Middle School Baseball v Foundation Academy
DESCRIPTION:
URL:https://circlechristianschool.org/event/home-middle-school-baseball-v-foundation-academy/
LOCATION:Boombah Sports Complex\, 3450 E. Lake Mary Blvd\, Sanford\, Florida\, 32773\, United States
CATEGORIES:Athletics
ATTACH;FMTTYPE=image/jpeg:https://circlechristianschool.org/wp-content/uploads/2024/02/IMG_5355-scaled.jpg
GEO:28.7636088;-81.218857
X-APPLE-STRUCTURED-LOCATION;VALUE=URI;X-ADDRESS=Boombah Sports Complex 3450 E. Lake Mary Blvd Sanford Florida 32773 United States;X-APPLE-RADIUS=500;X-TITLE=3450 E. Lake Mary Blvd:geo:-81.218857,28.7636088
END:VEVENT
BEGIN:VEVENT
DTSTART;TZID=America/New_York:20250224T160000
DTEND;TZID=America/New_York:20250224T190000
DTSTAMP:20260421T082727
CREATED:20250213T005139Z
LAST-MODIFIED:20250213T024654Z
UID:10001114-1740412800-1740423600@circlechristianschool.org
SUMMARY:Tennis Match Circle v Windermere Prep
DESCRIPTION:
URL:https://circlechristianschool.org/event/tennis-match-circle-v-windermere-prep-2/
LOCATION:Sanlando Park\, 401 W Highland St\, Altamonte Springs\, Florida\, 32714\, United States
CATEGORIES:Athletics
ATTACH;FMTTYPE=image/jpeg:https://circlechristianschool.org/wp-content/uploads/2024/02/tennis-racket-w-ball.jpeg
GEO:28.6768535;-81.3972667
X-APPLE-STRUCTURED-LOCATION;VALUE=URI;X-ADDRESS=Sanlando Park 401 W Highland St Altamonte Springs Florida 32714 United States;X-APPLE-RADIUS=500;X-TITLE=401 W Highland St:geo:-81.3972667,28.6768535
END:VEVENT
BEGIN:VEVENT
DTSTART;TZID=America/New_York:20250224T170000
DTEND;TZID=America/New_York:20250224T190000
DTSTAMP:20260421T082727
CREATED:20250123T165611Z
LAST-MODIFIED:20250123T165614Z
UID:10001088-1740416400-1740423600@circlechristianschool.org
SUMMARY:AWAY Varsity Baseball @ Lake Mary Prep
DESCRIPTION:
URL:https://circlechristianschool.org/event/away-varsity-baseball-lake-mary-prep-2/
LOCATION:Lake Mary Preparatory School\, 650 Rantoul Ln\, Lake Mary\, Florida\, 32746\, United States
CATEGORIES:Athletics
ATTACH;FMTTYPE=image/jpeg:https://circlechristianschool.org/wp-content/uploads/2024/02/baseball-field-and-ball.jpg
GEO:28.7775996;-81.3236102
X-APPLE-STRUCTURED-LOCATION;VALUE=URI;X-ADDRESS=Lake Mary Preparatory School 650 Rantoul Ln Lake Mary Florida 32746 United States;X-APPLE-RADIUS=500;X-TITLE=650 Rantoul Ln:geo:-81.3236102,28.7775996
END:VEVENT
BEGIN:VEVENT
DTSTART;TZID=America/New_York:20250225T161500
DTEND;TZID=America/New_York:20250225T181500
DTSTAMP:20260421T082727
CREATED:20250123T165750Z
LAST-MODIFIED:20250123T165753Z
UID:10001089-1740500100-1740507300@circlechristianschool.org
SUMMARY:AWAY Varsity Baseball @ Windermere Prep
DESCRIPTION:
URL:https://circlechristianschool.org/event/away-varsity-baseball-windermere-prep-2/
LOCATION:Windermere Preperatory School\, 6189 Winter-Garden Vineland Road\, Windermere\, Florida\, 34786\, United States
CATEGORIES:Athletics
ATTACH;FMTTYPE=image/jpeg:https://circlechristianschool.org/wp-content/uploads/2024/02/baseball-field-and-ball.jpg
GEO:28.4780923;-81.5696684
X-APPLE-STRUCTURED-LOCATION;VALUE=URI;X-ADDRESS=Windermere Preperatory School 6189 Winter-Garden Vineland Road Windermere Florida 34786 United States;X-APPLE-RADIUS=500;X-TITLE=6189 Winter-Garden Vineland Road:geo:-81.5696684,28.4780923
END:VEVENT
BEGIN:VEVENT
DTSTART;TZID=America/New_York:20250227T160000
DTEND;TZID=America/New_York:20250227T170000
DTSTAMP:20260421T082727
CREATED:20250122T230531Z
LAST-MODIFIED:20250122T230534Z
UID:10001073-1740672000-1740675600@circlechristianschool.org
SUMMARY:HOME Middle School Baseball v The First Academy
DESCRIPTION:
URL:https://circlechristianschool.org/event/home-middle-school-baseball-v-the-first-academy-2/
LOCATION:Faith Christian Academy\, 9307 Curry Ford Rd\, Orlando\, Florida\, 32825\, United States
CATEGORIES:Athletics
ATTACH;FMTTYPE=image/jpeg:https://circlechristianschool.org/wp-content/uploads/2024/02/IMG_5355-scaled.jpg
GEO:28.5123809;-81.2548087
X-APPLE-STRUCTURED-LOCATION;VALUE=URI;X-ADDRESS=Faith Christian Academy 9307 Curry Ford Rd Orlando Florida 32825 United States;X-APPLE-RADIUS=500;X-TITLE=9307 Curry Ford Rd:geo:-81.2548087,28.5123809
END:VEVENT
BEGIN:VEVENT
DTSTART;TZID=America/New_York:20250227T160000
DTEND;TZID=America/New_York:20250227T180000
DTSTAMP:20260421T082727
CREATED:20241230T172742Z
LAST-MODIFIED:20250213T001708Z
UID:10001042-1740672000-1740679200@circlechristianschool.org
SUMMARY:CFML Track and Field Middle School Meet #3
DESCRIPTION:Admission to the meet is $5.00/adult (18+).  CARD ONLY \n\n\n\nConcessions will be available (Burgers\, Chips\, Candy\, Drinks) CARDS ONLY Please <Snack Bar Menu Link>
URL:https://circlechristianschool.org/event/cfml-track-and-field-middle-school-meet-3/
LOCATION:The Geneva School\, 1775 Seminola Blvd\, Casselberry\, Florida\, 32707\, United States
CATEGORIES:Athletics
ATTACH;FMTTYPE=image/jpeg:https://circlechristianschool.org/wp-content/uploads/2024/02/track-and-field-lanes-.jpg
GEO:28.6123356;-81.3108006
X-APPLE-STRUCTURED-LOCATION;VALUE=URI;X-ADDRESS=The Geneva School 1775 Seminola Blvd Casselberry Florida 32707 United States;X-APPLE-RADIUS=500;X-TITLE=1775 Seminola Blvd:geo:-81.3108006,28.6123356
END:VEVENT
BEGIN:VEVENT
DTSTART;TZID=America/New_York:20250227T160000
DTEND;TZID=America/New_York:20250227T190000
DTSTAMP:20260421T082727
CREATED:20250221T151819Z
LAST-MODIFIED:20250221T151822Z
UID:10001126-1740672000-1740682800@circlechristianschool.org
SUMMARY:Tennis Match JV/MS Circle v Bishop Moore
DESCRIPTION:
URL:https://circlechristianschool.org/event/tennis-match-jv-ms-circle-v-bishop-moore/
LOCATION:Sanlando Park\, 401 W Highland St\, Altamonte Springs\, Florida\, 32714\, United States
CATEGORIES:Athletics
ATTACH;FMTTYPE=image/jpeg:https://circlechristianschool.org/wp-content/uploads/2024/02/tennis-racket-w-ball.jpeg
GEO:28.6768535;-81.3972667
X-APPLE-STRUCTURED-LOCATION;VALUE=URI;X-ADDRESS=Sanlando Park 401 W Highland St Altamonte Springs Florida 32714 United States;X-APPLE-RADIUS=500;X-TITLE=401 W Highland St:geo:-81.3972667,28.6768535
END:VEVENT
BEGIN:VEVENT
DTSTART;TZID=America/New_York:20250301T080000
DTEND;TZID=America/New_York:20250301T183000
DTSTAMP:20260421T082727
CREATED:20250221T154514Z
LAST-MODIFIED:20250221T154517Z
UID:10001128-1740816000-1740853800@circlechristianschool.org
SUMMARY:HS Track and Field Mount Dora Christian Invitational #1
DESCRIPTION:
URL:https://circlechristianschool.org/event/hs-track-and-field-mount-dora-christian-invitational-1/
LOCATION:Mount Dora Christian Academy – Bulldog Stadium\, 301 W. 13th Ave\, Mount Dora\, Florida\, 32757\, United States
CATEGORIES:Athletics
ATTACH;FMTTYPE=image/jpeg:https://circlechristianschool.org/wp-content/uploads/2024/02/track-and-field-varsity.jpg
GEO:28.807963;-81.6471663
X-APPLE-STRUCTURED-LOCATION;VALUE=URI;X-ADDRESS=Mount Dora Christian Academy – Bulldog Stadium 301 W. 13th Ave Mount Dora Florida 32757 United States;X-APPLE-RADIUS=500;X-TITLE=301 W. 13th Ave:geo:-81.6471663,28.807963
END:VEVENT
BEGIN:VEVENT
DTSTART;TZID=America/New_York:20250301T090000
DTEND;TZID=America/New_York:20250301T120000
DTSTAMP:20260421T082727
CREATED:20250218T172350Z
LAST-MODIFIED:20250218T172354Z
UID:10001125-1740819600-1740830400@circlechristianschool.org
SUMMARY:Lower School Basketball Games
DESCRIPTION:Riley Arena – 1st-2nd grade @ 9:00 am and Ingram Gym 3rd-4th grade Circle White @ 10:00 am court 1 and Circle Blue 10:00am court 2
URL:https://circlechristianschool.org/event/lower-school-basketball-games-4/
LOCATION:The Geneva School\, 1775 Seminola Blvd\, Casselberry\, Florida\, 32707\, United States
CATEGORIES:Athletics
ATTACH;FMTTYPE=image/jpeg:https://circlechristianschool.org/wp-content/uploads/2024/02/basketball-net.jpg
GEO:28.6123356;-81.3108006
X-APPLE-STRUCTURED-LOCATION;VALUE=URI;X-ADDRESS=The Geneva School 1775 Seminola Blvd Casselberry Florida 32707 United States;X-APPLE-RADIUS=500;X-TITLE=1775 Seminola Blvd:geo:-81.3108006,28.6123356
END:VEVENT
BEGIN:VEVENT
DTSTART;TZID=America/New_York:20250303T180000
DTEND;TZID=America/New_York:20250303T193000
DTSTAMP:20260421T082727
CREATED:20250122T225142Z
LAST-MODIFIED:20250122T225145Z
UID:10001065-1741024800-1741030200@circlechristianschool.org
SUMMARY:Middle School Baseball @ Foundation Academy
DESCRIPTION:
URL:https://circlechristianschool.org/event/middle-school-baseball-foundation-academy-3/
LOCATION:Foundations Academy\, 15304 Tilden Road\, Winter Garden\, Florida\, 34787\, United States
CATEGORIES:Athletics
ATTACH;FMTTYPE=image/jpeg:https://circlechristianschool.org/wp-content/uploads/2024/02/IMG_5355-scaled.jpg
GEO:28.5055057;-81.6161907
X-APPLE-STRUCTURED-LOCATION;VALUE=URI;X-ADDRESS=Foundations Academy 15304 Tilden Road Winter Garden Florida 34787 United States;X-APPLE-RADIUS=500;X-TITLE=15304 Tilden Road:geo:-81.6161907,28.5055057
END:VEVENT
BEGIN:VEVENT
DTSTART;TZID=America/New_York:20250304T160000
DTEND;TZID=America/New_York:20250304T190000
DTSTAMP:20260421T082727
CREATED:20250213T004827Z
LAST-MODIFIED:20250213T004956Z
UID:10001113-1741104000-1741114800@circlechristianschool.org
SUMMARY:Tennis JV Match Circle v Geneva
DESCRIPTION:
URL:https://circlechristianschool.org/event/tennis-match-circle-v-windermere-prep/
LOCATION:Sanlando Park\, 401 W Highland St\, Altamonte Springs\, Florida\, 32714\, United States
CATEGORIES:Athletics
ATTACH;FMTTYPE=image/jpeg:https://circlechristianschool.org/wp-content/uploads/2024/02/tennis-racket-w-ball.jpeg
GEO:28.6768535;-81.3972667
X-APPLE-STRUCTURED-LOCATION;VALUE=URI;X-ADDRESS=Sanlando Park 401 W Highland St Altamonte Springs Florida 32714 United States;X-APPLE-RADIUS=500;X-TITLE=401 W Highland St:geo:-81.3972667,28.6768535
END:VEVENT
BEGIN:VEVENT
DTSTART;TZID=America/New_York:20250304T161500
DTEND;TZID=America/New_York:20250304T181500
DTSTAMP:20260421T082727
CREATED:20250122T231000Z
LAST-MODIFIED:20250122T231024Z
UID:10001075-1741104900-1741112100@circlechristianschool.org
SUMMARY:HOME - Varsity Baseball v OCP
DESCRIPTION:Details
URL:https://circlechristianschool.org/event/home-varsity-baseball-v-masters-academy-2/
LOCATION:Faith Christian Academy\, 9307 Curry Ford Rd\, Orlando\, Florida\, 32825\, United States
CATEGORIES:Athletics
ATTACH;FMTTYPE=image/jpeg:https://circlechristianschool.org/wp-content/uploads/2024/02/IMG_5355-scaled.jpg
GEO:28.5123809;-81.2548087
X-APPLE-STRUCTURED-LOCATION;VALUE=URI;X-ADDRESS=Faith Christian Academy 9307 Curry Ford Rd Orlando Florida 32825 United States;X-APPLE-RADIUS=500;X-TITLE=9307 Curry Ford Rd:geo:-81.2548087,28.5123809
END:VEVENT
BEGIN:VEVENT
DTSTART;TZID=America/New_York:20250306T160000
DTEND;TZID=America/New_York:20250306T180000
DTSTAMP:20260421T082727
CREATED:20241230T172931Z
LAST-MODIFIED:20250213T001849Z
UID:10001043-1741276800-1741284000@circlechristianschool.org
SUMMARY:CFML Track and Field Middle School Meet #4
DESCRIPTION:Admission to the meet is $5.00/adult (18+).  CARD ONLY \n\n\n\nConcessions will be available (Burgers\, Chips\, Candy\, Drinks) CARDS ONLY Please <Snack Bar Menu Link>
URL:https://circlechristianschool.org/event/cfml-track-and-field-middle-school-meet-4/
LOCATION:The Geneva School\, 1775 Seminola Blvd\, Casselberry\, Florida\, 32707\, United States
CATEGORIES:Athletics
ATTACH;FMTTYPE=image/jpeg:https://circlechristianschool.org/wp-content/uploads/2024/02/track-and-field-lanes-.jpg
GEO:28.6123356;-81.3108006
X-APPLE-STRUCTURED-LOCATION;VALUE=URI;X-ADDRESS=The Geneva School 1775 Seminola Blvd Casselberry Florida 32707 United States;X-APPLE-RADIUS=500;X-TITLE=1775 Seminola Blvd:geo:-81.3108006,28.6123356
END:VEVENT
BEGIN:VEVENT
DTSTART;TZID=America/New_York:20250306T160000
DTEND;TZID=America/New_York:20250306T190000
DTSTAMP:20260421T082727
CREATED:20250213T005237Z
LAST-MODIFIED:20250213T005240Z
UID:10001115-1741276800-1741287600@circlechristianschool.org
SUMMARY:Tennis Match Circle v Eustis High School
DESCRIPTION:
URL:https://circlechristianschool.org/event/tennis-match-circle-v-eustis-high-school/
LOCATION:Sanlando Park\, 401 W Highland St\, Altamonte Springs\, Florida\, 32714\, United States
CATEGORIES:Athletics
ATTACH;FMTTYPE=image/jpeg:https://circlechristianschool.org/wp-content/uploads/2024/02/tennis-racket-w-ball.jpeg
GEO:28.6768535;-81.3972667
X-APPLE-STRUCTURED-LOCATION;VALUE=URI;X-ADDRESS=Sanlando Park 401 W Highland St Altamonte Springs Florida 32714 United States;X-APPLE-RADIUS=500;X-TITLE=401 W Highland St:geo:-81.3972667,28.6768535
END:VEVENT
BEGIN:VEVENT
DTSTART;TZID=America/New_York:20250306T163000
DTEND;TZID=America/New_York:20250306T183000
DTSTAMP:20260421T082727
CREATED:20250122T231134Z
LAST-MODIFIED:20250122T231138Z
UID:10001076-1741278600-1741285800@circlechristianschool.org
SUMMARY:HOME - Varsity Baseball v Trinity Christian
DESCRIPTION:Details
URL:https://circlechristianschool.org/event/home-varsity-baseball-v-trinity-christian/
LOCATION:Faith Christian Academy\, 9307 Curry Ford Rd\, Orlando\, Florida\, 32825\, United States
CATEGORIES:Athletics
ATTACH;FMTTYPE=image/jpeg:https://circlechristianschool.org/wp-content/uploads/2024/02/IMG_5355-scaled.jpg
GEO:28.5123809;-81.2548087
X-APPLE-STRUCTURED-LOCATION;VALUE=URI;X-ADDRESS=Faith Christian Academy 9307 Curry Ford Rd Orlando Florida 32825 United States;X-APPLE-RADIUS=500;X-TITLE=9307 Curry Ford Rd:geo:-81.2548087,28.5123809
END:VEVENT
BEGIN:VEVENT
DTSTART;TZID=America/New_York:20250306T180000
DTEND;TZID=America/New_York:20250306T200000
DTSTAMP:20260421T082727
CREATED:20250122T225258Z
LAST-MODIFIED:20250228T165359Z
UID:10001066-1741284000-1741291200@circlechristianschool.org
SUMMARY:Middle School Baseball @ The First Academy
DESCRIPTION:
URL:https://circlechristianschool.org/event/middle-school-baseball-the-first-academy/
LOCATION:The First Academy Payne Stewart Athletic Complex\, 1960 S John Young Pkwy\, Orlando\, Florida\, 32805\, United States
CATEGORIES:Athletics
ATTACH;FMTTYPE=image/jpeg:https://circlechristianschool.org/wp-content/uploads/2024/02/IMG_5355-scaled.jpg
GEO:28.518143;-81.42059
X-APPLE-STRUCTURED-LOCATION;VALUE=URI;X-ADDRESS=The First Academy Payne Stewart Athletic Complex 1960 S John Young Pkwy Orlando Florida 32805 United States;X-APPLE-RADIUS=500;X-TITLE=1960 S John Young Pkwy:geo:-81.42059,28.518143
END:VEVENT
BEGIN:VEVENT
DTSTART;TZID=America/New_York:20250307T153000
DTEND;TZID=America/New_York:20250307T190000
DTSTAMP:20260421T082727
CREATED:20250307T185355Z
LAST-MODIFIED:20250307T185359Z
UID:10001163-1741361400-1741374000@circlechristianschool.org
SUMMARY:Tennis Match Circle v Windermere Prep
DESCRIPTION:
URL:https://circlechristianschool.org/event/tennis-match-circle-v-windermere-prep-3/
LOCATION:Windermere Preperatory School\, 6189 Winter-Garden Vineland Road\, Windermere\, Florida\, 34786\, United States
CATEGORIES:Athletics
ATTACH;FMTTYPE=image/jpeg:https://circlechristianschool.org/wp-content/uploads/2024/02/tennis-racket-w-ball.jpeg
GEO:28.4780923;-81.5696684
X-APPLE-STRUCTURED-LOCATION;VALUE=URI;X-ADDRESS=Windermere Preperatory School 6189 Winter-Garden Vineland Road Windermere Florida 34786 United States;X-APPLE-RADIUS=500;X-TITLE=6189 Winter-Garden Vineland Road:geo:-81.5696684,28.4780923
END:VEVENT
BEGIN:VEVENT
DTSTART;TZID=America/New_York:20250307T163000
DTEND;TZID=America/New_York:20250307T200000
DTSTAMP:20260421T082727
CREATED:20250221T154829Z
LAST-MODIFIED:20250221T154832Z
UID:10001130-1741365000-1741377600@circlechristianschool.org
SUMMARY:Geneva Classic 2025 Varsity Track and Field
DESCRIPTION:
URL:https://circlechristianschool.org/event/geneva-classic-2025-varsity-track-and-field/
LOCATION:The Geneva School\, 1775 Seminola Blvd\, Casselberry\, Florida\, 32707\, United States
CATEGORIES:Athletics
ATTACH;FMTTYPE=image/jpeg:https://circlechristianschool.org/wp-content/uploads/2024/02/track-and-field-varsity.jpg
GEO:28.6123356;-81.3108006
X-APPLE-STRUCTURED-LOCATION;VALUE=URI;X-ADDRESS=The Geneva School 1775 Seminola Blvd Casselberry Florida 32707 United States;X-APPLE-RADIUS=500;X-TITLE=1775 Seminola Blvd:geo:-81.3108006,28.6123356
END:VEVENT
BEGIN:VEVENT
DTSTART;TZID=America/New_York:20250308T090000
DTEND;TZID=America/New_York:20250308T120000
DTSTAMP:20260421T082727
CREATED:20250218T171617Z
LAST-MODIFIED:20250218T171634Z
UID:10001123-1741424400-1741435200@circlechristianschool.org
SUMMARY:Lower School Basketball Playoff Games
DESCRIPTION:3rd-4th grade @ 9am-semi finals; 10am Championship and 1st-2nd grade @ 9 am- semin finals and 9:45 Championship
URL:https://circlechristianschool.org/event/lower-school-basketball-playoff-games-2/
LOCATION:The Geneva School\, 1775 Seminola Blvd\, Casselberry\, Florida\, 32707\, United States
CATEGORIES:Athletics
ATTACH;FMTTYPE=image/jpeg:https://circlechristianschool.org/wp-content/uploads/2024/02/basketball-net.jpg
GEO:28.6123356;-81.3108006
X-APPLE-STRUCTURED-LOCATION;VALUE=URI;X-ADDRESS=The Geneva School 1775 Seminola Blvd Casselberry Florida 32707 United States;X-APPLE-RADIUS=500;X-TITLE=1775 Seminola Blvd:geo:-81.3108006,28.6123356
END:VEVENT
BEGIN:VEVENT
DTSTART;TZID=America/New_York:20250311T170000
DTEND;TZID=America/New_York:20250311T190000
DTSTAMP:20260421T082727
CREATED:20250123T165859Z
LAST-MODIFIED:20250123T165903Z
UID:10001090-1741712400-1741719600@circlechristianschool.org
SUMMARY:AWAY Varsity Baseball @ Master's Academy
DESCRIPTION:
URL:https://circlechristianschool.org/event/away-varsity-baseball-masters-academy-2/
LOCATION:Master’s Academy\, 1500 Lukas Ln\, Oviedo\, Florida\, 32765\, United States
CATEGORIES:Athletics
ATTACH;FMTTYPE=image/jpeg:https://circlechristianschool.org/wp-content/uploads/2024/02/baseball-field-and-ball.jpg
GEO:28.6489855;-81.2340683
X-APPLE-STRUCTURED-LOCATION;VALUE=URI;X-ADDRESS=Master’s Academy 1500 Lukas Ln Oviedo Florida 32765 United States;X-APPLE-RADIUS=500;X-TITLE=1500 Lukas Ln:geo:-81.2340683,28.6489855
END:VEVENT
BEGIN:VEVENT
DTSTART;TZID=America/New_York:20250313T153000
DTEND;TZID=America/New_York:20250313T190000
DTSTAMP:20260421T082727
CREATED:20250213T005328Z
LAST-MODIFIED:20250213T005331Z
UID:10001116-1741879800-1741892400@circlechristianschool.org
SUMMARY:Tennis Match Circle v Lake Mary Prep
DESCRIPTION:
URL:https://circlechristianschool.org/event/tennis-match-circle-v-lake-mary-prep-2/
LOCATION:Sanlando Park\, 401 W Highland St\, Altamonte Springs\, Florida\, 32714\, United States
CATEGORIES:Athletics
ATTACH;FMTTYPE=image/jpeg:https://circlechristianschool.org/wp-content/uploads/2024/02/tennis-racket-w-ball.jpeg
GEO:28.6768535;-81.3972667
X-APPLE-STRUCTURED-LOCATION;VALUE=URI;X-ADDRESS=Sanlando Park 401 W Highland St Altamonte Springs Florida 32714 United States;X-APPLE-RADIUS=500;X-TITLE=401 W Highland St:geo:-81.3972667,28.6768535
END:VEVENT
BEGIN:VEVENT
DTSTART;TZID=America/New_York:20250313T160000
DTEND;TZID=America/New_York:20250313T180000
DTSTAMP:20260421T082727
CREATED:20241230T173050Z
LAST-MODIFIED:20250213T001954Z
UID:10001044-1741881600-1741888800@circlechristianschool.org
SUMMARY:CFML Track and Field Middle School Championship Meet #5
DESCRIPTION:Admission to the meet is $5.00/adult (18+).  CARD ONLY \n\n\n\nConcessions will be available (Burgers\, Chips\, Candy\, Drinks) CARDS ONLY Please <Snack Bar Menu Link>
URL:https://circlechristianschool.org/event/cfml-track-and-field-middle-school-championship-meet-5/
LOCATION:The Geneva School\, 1775 Seminola Blvd\, Casselberry\, Florida\, 32707\, United States
CATEGORIES:Athletics
ATTACH;FMTTYPE=image/jpeg:https://circlechristianschool.org/wp-content/uploads/2024/02/track-and-field-lanes-.jpg
GEO:28.6123356;-81.3108006
X-APPLE-STRUCTURED-LOCATION;VALUE=URI;X-ADDRESS=The Geneva School 1775 Seminola Blvd Casselberry Florida 32707 United States;X-APPLE-RADIUS=500;X-TITLE=1775 Seminola Blvd:geo:-81.3108006,28.6123356
END:VEVENT
BEGIN:VEVENT
DTSTART;TZID=America/New_York:20250313T163000
DTEND;TZID=America/New_York:20250313T183000
DTSTAMP:20260421T082727
CREATED:20250122T231250Z
LAST-MODIFIED:20250122T231253Z
UID:10001077-1741883400-1741890600@circlechristianschool.org
SUMMARY:HOME - Varsity Baseball v Ocoee-Home
DESCRIPTION:Details
URL:https://circlechristianschool.org/event/home-varsity-baseball-v-ocoee-home/
LOCATION:Faith Christian Academy\, 9307 Curry Ford Rd\, Orlando\, Florida\, 32825\, United States
CATEGORIES:Athletics
ATTACH;FMTTYPE=image/jpeg:https://circlechristianschool.org/wp-content/uploads/2024/02/IMG_5355-scaled.jpg
GEO:28.5123809;-81.2548087
X-APPLE-STRUCTURED-LOCATION;VALUE=URI;X-ADDRESS=Faith Christian Academy 9307 Curry Ford Rd Orlando Florida 32825 United States;X-APPLE-RADIUS=500;X-TITLE=9307 Curry Ford Rd:geo:-81.2548087,28.5123809
END:VEVENT
BEGIN:VEVENT
DTSTART;TZID=America/New_York:20250314T163000
DTEND;TZID=America/New_York:20250314T200000
DTSTAMP:20260421T082727
CREATED:20250221T154944Z
LAST-MODIFIED:20250221T154949Z
UID:10001131-1741969800-1741982400@circlechristianschool.org
SUMMARY:Charlie Harris Relay Varsity Track and Field
DESCRIPTION:
URL:https://circlechristianschool.org/event/charlie-harris-relay-varsity-track-and-field/
LOCATION:Lake Brantley High School\, 991 Sand Lake Rd\,\, Altamonte Springs\, Florida\, 32714\, United States
CATEGORIES:Athletics
ATTACH;FMTTYPE=image/jpeg:https://circlechristianschool.org/wp-content/uploads/2024/02/track-and-field-varsity.jpg
GEO:28.6778033;-81.4267824
X-APPLE-STRUCTURED-LOCATION;VALUE=URI;X-ADDRESS=Lake Brantley High School 991 Sand Lake Rd Altamonte Springs Florida 32714 United States;X-APPLE-RADIUS=500;X-TITLE=991 Sand Lake Rd\,:geo:-81.4267824,28.6778033
END:VEVENT
BEGIN:VEVENT
DTSTART;TZID=America/New_York:20250324T160000
DTEND;TZID=America/New_York:20250324T170000
DTSTAMP:20260421T082727
CREATED:20250122T230652Z
LAST-MODIFIED:20250122T230742Z
UID:10001074-1742832000-1742835600@circlechristianschool.org
SUMMARY:HOME Middle School Baseball v Foundation Academy
DESCRIPTION:
URL:https://circlechristianschool.org/event/home-middle-school-baseball-v-foundation-academy-2/
LOCATION:Faith Christian Academy\, 9307 Curry Ford Rd\, Orlando\, Florida\, 32825\, United States
CATEGORIES:Athletics
ATTACH;FMTTYPE=image/jpeg:https://circlechristianschool.org/wp-content/uploads/2024/02/IMG_5355-scaled.jpg
GEO:28.5123809;-81.2548087
X-APPLE-STRUCTURED-LOCATION;VALUE=URI;X-ADDRESS=Faith Christian Academy 9307 Curry Ford Rd Orlando Florida 32825 United States;X-APPLE-RADIUS=500;X-TITLE=9307 Curry Ford Rd:geo:-81.2548087,28.5123809
END:VEVENT
BEGIN:VEVENT
DTSTART;TZID=America/New_York:20250325T160000
DTEND;TZID=America/New_York:20250325T173000
DTSTAMP:20260421T082727
CREATED:20250122T225746Z
LAST-MODIFIED:20250122T225805Z
UID:10001068-1742918400-1742923800@circlechristianschool.org
SUMMARY:Middle School Baseball @ Geneva
DESCRIPTION:
URL:https://circlechristianschool.org/event/middle-school-baseball-geneva-4/
LOCATION:The Geneva School\, 1775 Seminola Blvd\, Casselberry\, Florida\, 32707\, United States
CATEGORIES:Athletics
ATTACH;FMTTYPE=image/jpeg:https://circlechristianschool.org/wp-content/uploads/2024/02/IMG_5355-scaled.jpg
GEO:28.6123356;-81.3108006
X-APPLE-STRUCTURED-LOCATION;VALUE=URI;X-ADDRESS=The Geneva School 1775 Seminola Blvd Casselberry Florida 32707 United States;X-APPLE-RADIUS=500;X-TITLE=1775 Seminola Blvd:geo:-81.3108006,28.6123356
END:VEVENT
BEGIN:VEVENT
DTSTART;TZID=America/New_York:20250325T170000
DTEND;TZID=America/New_York:20250325T190000
DTSTAMP:20260421T082727
CREATED:20250122T231357Z
LAST-MODIFIED:20250122T231417Z
UID:10001078-1742922000-1742929200@circlechristianschool.org
SUMMARY:HOME - Varsity Baseball v Geneva
DESCRIPTION:Details
URL:https://circlechristianschool.org/event/home-varsity-baseball-v-ocoee-home-2/
LOCATION:Faith Christian Academy\, 9307 Curry Ford Rd\, Orlando\, Florida\, 32825\, United States
CATEGORIES:Athletics
ATTACH;FMTTYPE=image/jpeg:https://circlechristianschool.org/wp-content/uploads/2024/02/IMG_5355-scaled.jpg
GEO:28.5123809;-81.2548087
X-APPLE-STRUCTURED-LOCATION;VALUE=URI;X-ADDRESS=Faith Christian Academy 9307 Curry Ford Rd Orlando Florida 32825 United States;X-APPLE-RADIUS=500;X-TITLE=9307 Curry Ford Rd:geo:-81.2548087,28.5123809
END:VEVENT
BEGIN:VEVENT
DTSTART;TZID=America/New_York:20250327T180000
DTEND;TZID=America/New_York:20250327T193000
DTSTAMP:20260421T082727
CREATED:20250228T170033Z
LAST-MODIFIED:20250228T170039Z
UID:10001153-1743098400-1743103800@circlechristianschool.org
SUMMARY:Middle School Baseball @ Foundation Academy
DESCRIPTION:
URL:https://circlechristianschool.org/event/middle-school-baseball-foundation-academy-4/
LOCATION:Foundations Academy\, 15304 Tilden Road\, Winter Garden\, Florida\, 34787\, United States
CATEGORIES:Athletics
ATTACH;FMTTYPE=image/jpeg:https://circlechristianschool.org/wp-content/uploads/2024/02/IMG_5355-scaled.jpg
GEO:28.5055057;-81.6161907
X-APPLE-STRUCTURED-LOCATION;VALUE=URI;X-ADDRESS=Foundations Academy 15304 Tilden Road Winter Garden Florida 34787 United States;X-APPLE-RADIUS=500;X-TITLE=15304 Tilden Road:geo:-81.6161907,28.5055057
END:VEVENT
BEGIN:VEVENT
DTSTART;TZID=America/New_York:20250328T160000
DTEND;TZID=America/New_York:20250328T200000
DTSTAMP:20260421T082727
CREATED:20250221T155230Z
LAST-MODIFIED:20250221T155234Z
UID:10001132-1743177600-1743192000@circlechristianschool.org
SUMMARY:Coach Ernest McPherson Invitational 2025 Varsity Track and Field
DESCRIPTION:
URL:https://circlechristianschool.org/event/coach-ernest-mcpherson-invitational-2025-varsity-track-and-field/
LOCATION:Seminole High school\, 2701 Ridgewood Ave\, Sanford\, Florida\, 32773
CATEGORIES:Athletics
ATTACH;FMTTYPE=image/jpeg:https://circlechristianschool.org/wp-content/uploads/2024/02/track-and-field-varsity.jpg
GEO:28.780983;-81.2827854
X-APPLE-STRUCTURED-LOCATION;VALUE=URI;X-ADDRESS=Seminole High school 2701 Ridgewood Ave Sanford Florida 32773;X-APPLE-RADIUS=500;X-TITLE=2701 Ridgewood Ave:geo:-81.2827854,28.780983
END:VEVENT
BEGIN:VEVENT
DTSTART;TZID=America/New_York:20250328T180000
DTEND;TZID=America/New_York:20250328T200000
DTSTAMP:20260421T082727
CREATED:20250123T170003Z
LAST-MODIFIED:20250123T170007Z
UID:10001091-1743184800-1743192000@circlechristianschool.org
SUMMARY:AWAY Varsity Baseball @ Ocoee
DESCRIPTION:
URL:https://circlechristianschool.org/event/away-varsity-baseball-ocoee/
LOCATION:Florida
CATEGORIES:Athletics
ATTACH;FMTTYPE=image/jpeg:https://circlechristianschool.org/wp-content/uploads/2024/02/baseball-field-and-ball.jpg
END:VEVENT
END:VCALENDAR