BEGIN:VCALENDAR
VERSION:2.0
PRODID:-//Circle Christian Schools - ECPv6.15.11//NONSGML v1.0//EN
CALSCALE:GREGORIAN
METHOD:PUBLISH
X-WR-CALNAME:Circle Christian Schools
X-ORIGINAL-URL:https://circlechristianschool.org
X-WR-CALDESC:Events for Circle Christian Schools
REFRESH-INTERVAL;VALUE=DURATION:PT1H
X-Robots-Tag:noindex
X-PUBLISHED-TTL:PT1H
BEGIN:VTIMEZONE
TZID:America/New_York
BEGIN:DAYLIGHT
TZOFFSETFROM:-0500
TZOFFSETTO:-0400
TZNAME:EDT
DTSTART:20230312T070000
END:DAYLIGHT
BEGIN:STANDARD
TZOFFSETFROM:-0400
TZOFFSETTO:-0500
TZNAME:EST
DTSTART:20231105T060000
END:STANDARD
BEGIN:DAYLIGHT
TZOFFSETFROM:-0500
TZOFFSETTO:-0400
TZNAME:EDT
DTSTART:20240310T070000
END:DAYLIGHT
BEGIN:STANDARD
TZOFFSETFROM:-0400
TZOFFSETTO:-0500
TZNAME:EST
DTSTART:20241103T060000
END:STANDARD
BEGIN:DAYLIGHT
TZOFFSETFROM:-0500
TZOFFSETTO:-0400
TZNAME:EDT
DTSTART:20250309T070000
END:DAYLIGHT
BEGIN:STANDARD
TZOFFSETFROM:-0400
TZOFFSETTO:-0500
TZNAME:EST
DTSTART:20251102T060000
END:STANDARD
END:VTIMEZONE
BEGIN:VEVENT
DTSTART;TZID=America/New_York:20241004T130000
DTEND;TZID=America/New_York:20241005T080000
DTSTAMP:20260420T063708
CREATED:20240903T215719Z
LAST-MODIFIED:20240903T215722Z
UID:10000889-1728046800-1728115200@circlechristianschool.org
SUMMARY:Golf Boys Varsity - Qdoba Tournament
DESCRIPTION:
URL:https://circlechristianschool.org/event/golf-boys-varsity-qdoba-tournament/
LOCATION:Providence Golf Club\, 1518 Clubhouse Blvd\, Davenport\, Florida\, 33837\, United States
CATEGORIES:Athletics
ATTACH;FMTTYPE=image/jpeg:https://circlechristianschool.org/wp-content/uploads/2023/09/360_F_8489083_gyFQj5QhX6ZpoH42Vwasg2ZCl1duhntD.jpg
GEO:28.2117893;-81.5473014
X-APPLE-STRUCTURED-LOCATION;VALUE=URI;X-ADDRESS=Providence Golf Club 1518 Clubhouse Blvd Davenport Florida 33837 United States;X-APPLE-RADIUS=500;X-TITLE=1518 Clubhouse Blvd:geo:-81.5473014,28.2117893
END:VEVENT
END:VCALENDAR