BEGIN:VCALENDAR
VERSION:2.0
PRODID:-//Circle Christian Schools - ECPv6.15.11//NONSGML v1.0//EN
CALSCALE:GREGORIAN
METHOD:PUBLISH
X-WR-CALNAME:Circle Christian Schools
X-ORIGINAL-URL:https://circlechristianschool.org
X-WR-CALDESC:Events for Circle Christian Schools
REFRESH-INTERVAL;VALUE=DURATION:PT1H
X-Robots-Tag:noindex
X-PUBLISHED-TTL:PT1H
BEGIN:VTIMEZONE
TZID:America/New_York
BEGIN:DAYLIGHT
TZOFFSETFROM:-0500
TZOFFSETTO:-0400
TZNAME:EDT
DTSTART:20230312T070000
END:DAYLIGHT
BEGIN:STANDARD
TZOFFSETFROM:-0400
TZOFFSETTO:-0500
TZNAME:EST
DTSTART:20231105T060000
END:STANDARD
BEGIN:DAYLIGHT
TZOFFSETFROM:-0500
TZOFFSETTO:-0400
TZNAME:EDT
DTSTART:20240310T070000
END:DAYLIGHT
BEGIN:STANDARD
TZOFFSETFROM:-0400
TZOFFSETTO:-0500
TZNAME:EST
DTSTART:20241103T060000
END:STANDARD
BEGIN:DAYLIGHT
TZOFFSETFROM:-0500
TZOFFSETTO:-0400
TZNAME:EDT
DTSTART:20250309T070000
END:DAYLIGHT
BEGIN:STANDARD
TZOFFSETFROM:-0400
TZOFFSETTO:-0500
TZNAME:EST
DTSTART:20251102T060000
END:STANDARD
END:VTIMEZONE
BEGIN:VEVENT
DTSTART;TZID=America/New_York:20241021T000000
DTEND;TZID=America/New_York:20241025T235959
DTSTAMP:20260421T045145
CREATED:20240916T171506Z
LAST-MODIFIED:20240916T171509Z
UID:10000928-1729468800-1729900799@circlechristianschool.org
SUMMARY:Parent Partnership Week
DESCRIPTION:All locations
URL:https://circlechristianschool.org/event/parent-partnership-week/
LOCATION:FL
CATEGORIES:Upper School
ATTACH;FMTTYPE=image/png:https://circlechristianschool.org/wp-content/uploads/2023/09/Screen-Shot-2023-09-13-at-1.37.42-PM.png
END:VEVENT
BEGIN:VEVENT
DTSTART;TZID=America/New_York:20241021T000000
DTEND;TZID=America/New_York:20241025T235959
DTSTAMP:20260421T045145
CREATED:20240916T171920Z
LAST-MODIFIED:20240916T171923Z
UID:10000929-1729468800-1729900799@circlechristianschool.org
SUMMARY:T-Shirt Week
DESCRIPTION:
URL:https://circlechristianschool.org/event/t-shirt-week-2/
LOCATION:FL
CATEGORIES:Upper School
ATTACH;FMTTYPE=image/png:https://circlechristianschool.org/wp-content/uploads/2023/09/Screen-Shot-2023-09-13-at-1.37.42-PM.png
END:VEVENT
BEGIN:VEVENT
DTSTART;TZID=America/New_York:20241021T000000
DTEND;TZID=America/New_York:20241025T235959
DTSTAMP:20260421T045145
CREATED:20240916T172021Z
LAST-MODIFIED:20240916T172023Z
UID:10000930-1729468800-1729900799@circlechristianschool.org
SUMMARY:Chick-Fil-A Week
DESCRIPTION:All locations
URL:https://circlechristianschool.org/event/chick-fil-a-week/
LOCATION:FL
CATEGORIES:Upper School
ATTACH;FMTTYPE=image/jpeg:https://circlechristianschool.org/wp-content/uploads/2023/09/Chick-fil-a.jpg
END:VEVENT
BEGIN:VEVENT
DTSTART;TZID=America/New_York:20241021T074700
DTEND;TZID=America/New_York:20241021T082500
DTSTAMP:20260421T045145
CREATED:20240916T172158Z
LAST-MODIFIED:20240916T172201Z
UID:10000931-1729496820-1729499100@circlechristianschool.org
SUMMARY:Chapel (Winter Springs Campus)
DESCRIPTION:
URL:https://circlechristianschool.org/event/chapel-winter-springs-campus/
LOCATION:Foundry Campus\, 1491 E SR 434\, Winter Springs\, FL\, 32708\, United States
CATEGORIES:Upper School
ATTACH;FMTTYPE=image/jpeg:https://circlechristianschool.org/wp-content/uploads/2023/09/ai-generated-christian-church-with-a-religious-cross-and-aura-light-in-the-whole-room-photo.jpg
GEO:28.6988853;-81.3081226
X-APPLE-STRUCTURED-LOCATION;VALUE=URI;X-ADDRESS=Foundry Campus 1491 E SR 434 Winter Springs FL 32708 United States;X-APPLE-RADIUS=500;X-TITLE=1491 E SR 434:geo:-81.3081226,28.6988853
END:VEVENT
BEGIN:VEVENT
DTSTART;TZID=America/New_York:20241021T153000
DTEND;TZID=America/New_York:20241021T160000
DTSTAMP:20260421T045145
CREATED:20240903T220721Z
LAST-MODIFIED:20240903T220723Z
UID:10000894-1729524600-1729526400@circlechristianschool.org
SUMMARY:Golf Boys Varsity vs. The Master's Academy
DESCRIPTION:
URL:https://circlechristianschool.org/event/golf-boys-varsity-vs-the-masters-academy/
LOCATION:Twin Rivers Golf Club\, 2100 Ekana Dr\, Oviedo\, Florida\, 32765\, United States
CATEGORIES:Athletics
ATTACH;FMTTYPE=image/jpeg:https://circlechristianschool.org/wp-content/uploads/2023/09/360_F_8489083_gyFQj5QhX6ZpoH42Vwasg2ZCl1duhntD.jpg
GEO:28.6446613;-81.1750297
X-APPLE-STRUCTURED-LOCATION;VALUE=URI;X-ADDRESS=Twin Rivers Golf Club 2100 Ekana Dr Oviedo Florida 32765 United States;X-APPLE-RADIUS=500;X-TITLE=2100 Ekana Dr:geo:-81.1750297,28.6446613
END:VEVENT
END:VCALENDAR