BEGIN:VCALENDAR
VERSION:2.0
PRODID:-//Circle Christian Schools - ECPv6.15.11//NONSGML v1.0//EN
CALSCALE:GREGORIAN
METHOD:PUBLISH
X-ORIGINAL-URL:https://circlechristianschool.org
X-WR-CALDESC:Events for Circle Christian Schools
REFRESH-INTERVAL;VALUE=DURATION:PT1H
X-Robots-Tag:noindex
X-PUBLISHED-TTL:PT1H
BEGIN:VTIMEZONE
TZID:America/New_York
BEGIN:DAYLIGHT
TZOFFSETFROM:-0500
TZOFFSETTO:-0400
TZNAME:EDT
DTSTART:20230312T070000
END:DAYLIGHT
BEGIN:STANDARD
TZOFFSETFROM:-0400
TZOFFSETTO:-0500
TZNAME:EST
DTSTART:20231105T060000
END:STANDARD
BEGIN:DAYLIGHT
TZOFFSETFROM:-0500
TZOFFSETTO:-0400
TZNAME:EDT
DTSTART:20240310T070000
END:DAYLIGHT
BEGIN:STANDARD
TZOFFSETFROM:-0400
TZOFFSETTO:-0500
TZNAME:EST
DTSTART:20241103T060000
END:STANDARD
BEGIN:DAYLIGHT
TZOFFSETFROM:-0500
TZOFFSETTO:-0400
TZNAME:EDT
DTSTART:20250309T070000
END:DAYLIGHT
BEGIN:STANDARD
TZOFFSETFROM:-0400
TZOFFSETTO:-0500
TZNAME:EST
DTSTART:20251102T060000
END:STANDARD
END:VTIMEZONE
BEGIN:VEVENT
DTSTART;TZID=America/New_York:20241007T000000
DTEND;TZID=America/New_York:20241011T235959
DTSTAMP:20260420T050628
CREATED:20240916T171247Z
LAST-MODIFIED:20240916T171336Z
UID:10000927-1728259200-1728691199@circlechristianschool.org
SUMMARY:Extension Week (No Classes)
DESCRIPTION:
URL:https://circlechristianschool.org/event/extension-week-no-classes/
LOCATION:FL
CATEGORIES:All School
ATTACH;FMTTYPE=image/png:https://circlechristianschool.org/wp-content/uploads/2023/09/ccslogoright1-copy.png
END:VEVENT
BEGIN:VEVENT
DTSTART;TZID=America/New_York:20241007T120000
DTEND;TZID=America/New_York:20241011T120000
DTSTAMP:20260420T050628
CREATED:20240702T213904Z
LAST-MODIFIED:20240702T213908Z
UID:10000788-1728302400-1728648000@circlechristianschool.org
SUMMARY:Extension & Testing Days (PreACT/PSAT/Fall NWEA Testing)
DESCRIPTION:
URL:https://circlechristianschool.org/event/extension-testing-days-preact-psat-fall-nwea-testing/
LOCATION:FL
CATEGORIES:Guidance
ATTACH;FMTTYPE=image/png:https://circlechristianschool.org/wp-content/uploads/2023/09/0-3.png
END:VEVENT
BEGIN:VEVENT
DTSTART;TZID=America/New_York:20241009T153000
DTEND;TZID=America/New_York:20241009T160000
DTSTAMP:20260420T050628
CREATED:20240904T020341Z
LAST-MODIFIED:20240904T020343Z
UID:10000919-1728487800-1728489600@circlechristianschool.org
SUMMARY:Golf JV Boys - Forest Lake Academy
DESCRIPTION:
URL:https://circlechristianschool.org/event/golf-jv-boys-forest-lake-academy/
LOCATION:Ventura Country Club Country Club\, 3333 Woodgate Blvd\, Orlando\, Florida\, 32822\, United States
CATEGORIES:Athletics
ATTACH;FMTTYPE=image/jpeg:https://circlechristianschool.org/wp-content/uploads/2023/09/360_F_8489083_gyFQj5QhX6ZpoH42Vwasg2ZCl1duhntD.jpg
GEO:28.5087715;-81.2989132
X-APPLE-STRUCTURED-LOCATION;VALUE=URI;X-ADDRESS=Ventura Country Club Country Club 3333 Woodgate Blvd Orlando Florida 32822 United States;X-APPLE-RADIUS=500;X-TITLE=3333 Woodgate Blvd:geo:-81.2989132,28.5087715
END:VEVENT
END:VCALENDAR